BEGIN:VCALENDAR
VERSION:2.0
PRODID:-//ChamberMaster//Event Calendar 2.0//EN
METHOD:PUBLISH
X-PUBLISHED-TTL:P3D
REFRESH-INTERVAL:P3D
CALSCALE:GREGORIAN
BEGIN:VEVENT
DTSTART:20160625T130000Z
DTEND:20160625T190000Z
X-MICROSOFT-CDO-ALLDAYEVENT:FALSE
SUMMARY:La Porte Jaycees Arts & Crafts Festival
DESCRIPTION:The La Porte Jaycees are hosting their annual Arts & Crafts Festival right next to the Farmer's Market in Downtown La Porte. Come down for a day of fun! Crafts from local vendors\, along with games for the kids! For more information\, email contactus@laportejaycees.org
X-ALT-DESC;FMTTYPE=text/html:<span style="font-family: helvetica\, arial\, sans-serif\; color: rgb(75\, 79\, 86)\; font-size: 14px\; line-height: 18.76px\; background-color: rgb(255\, 255\, 255)\;">The La Porte Jaycees are hosting their annual Arts &amp\; Crafts Festival right next to the Farmer&#39\;s Market in Downtown La Porte. Come down for a day of fun! Crafts from local vendors\, along with games for the kids! For more information\, email contactus@laportejaycees.o</span><wbr style="color: rgb(75\, 79\, 86)\; font-family: helvetica\, arial\, sans-serif\; font-size: 14px\; line-height: 18.76px\; background-color: rgb(255\, 255\, 255)\;" /><span style="color: rgb(75\, 79\, 86)\; font-family: helvetica\, arial\, sans-serif\; font-size: 14px\; line-height: 18.76px\; background-color: rgb(255\, 255\, 255)\;">rg</span>
LOCATION:Hearld Argus Parking Lot Corner of State and Monroe
UID:e.1949.2573
SEQUENCE:3
DTSTAMP:20260426T035739Z
URL:https://members.laportepartnership.com/events/details/la-porte-jaycees-arts-crafts-festival-06-25-2016-2573
END:VEVENT

END:VCALENDAR
