BEGIN:VCALENDAR
VERSION:2.0
PRODID:-//ChamberMaster//Event Calendar 2.0//EN
METHOD:PUBLISH
X-PUBLISHED-TTL:P3D
REFRESH-INTERVAL:P3D
CALSCALE:GREGORIAN
BEGIN:VEVENT
DTSTART:20181213T000000Z
DTEND:20181213T020000Z
X-MICROSOFT-CDO-ALLDAYEVENT:FALSE
SUMMARY:La Porte Jaycees December General Meeting & Holiday Potluck
DESCRIPTION:Join the Jaycees for our December meeting for a holiday potluck dinner as we celebrate the holidays together\, recap the 2018 year\, and begin planning for 2019! Any community members interested in joining the Jaycees are invited to attend. Holiday attire is encouraged\, and bring a dish to share if you can! \n\n\n\nThis meeting will be hosted at the Healthcare Foundation of La Porte office at 286 W Johnson Rd Suite E\, La Porte\, IN 46350.\n \n\n##\n\n \n\n\nThe Jaycees\, also known as the Junior Chamber of Commerce\, is an organization that provides leadership training opportunities for its members through the projects and programs the members plan\, organize\, and conduct in both the community and chapter. Young men and women ages 18 through 40 are eligible to be members.\n\nLa Porte Jaycees projects focus on three major areas: Management Development (money-making projects and membership communication)\, Individual Development (leadership skills and social functions)\, and Community Development (youth\, senior citizens\, environment\, and recreation).\n\nThe La Porte Jaycees continue to be a premier organization in the field of leadership training and in service to the community of La Porte.
X-ALT-DESC;FMTTYPE=text/html:<span style="color: rgb(29\, 33\, 41)\; font-family: Helvetica\, Arial\, sans-serif\; font-size: 14px\; background-color: rgb(255\, 255\, 255)\;">Join the Jaycees for our December meeting for a holiday potluck dinner as we celebrate the holidays together\, recap the 2018 year\, and begin planning for 2019! Any community members interested in joining the Jaycees are invited to attend. Holiday attire is encouraged\, and bring a dish to share if you can!&nbsp\;</span><br style="color: rgb(29\, 33\, 41)\; font-family: Helvetica\, Arial\, sans-serif\; font-size: 14px\; background-color: rgb(255\, 255\, 255)\;" />\n<br style="color: rgb(29\, 33\, 41)\; font-family: Helvetica\, Arial\, sans-serif\; font-size: 14px\; background-color: rgb(255\, 255\, 255)\;" />\n<span style="color: rgb(29\, 33\, 41)\; font-family: Helvetica\, Arial\, sans-serif\; font-size: 14px\; background-color: rgb(255\, 255\, 255)\;">This meeting will be hosted at the Healthcare Foundation of La Porte office at 286 W Johnson Rd Suite E\, La Porte\, IN 46350.</span>\n<div>&nbsp\;</div>\n\n<div><span style="color: rgb(29\, 33\, 41)\; font-family: Helvetica\, Arial\, sans-serif\; font-size: 14px\; background-color: rgb(255\, 255\, 255)\;">##</span></div>\n\n<div>&nbsp\;</div>\n\n<div>\n<p style="box-sizing: inherit\; margin: 0px 0px 15px\; color: rgb(68\, 68\, 68)\; font-family: &quot\;Pontano Sans&quot\;\, sans-serif\; font-size: 18px\; background-color: rgb(255\, 255\, 255)\;"><span style="font-size:14px\;">The Jaycees\, also known as the Junior Chamber of Commerce\, is an organization that provides leadership training opportunities for its members through the projects and programs the members plan\, organize\, and conduct in both the community and chapter. Young men and women ages 18 through 40 are eligible to be members.</span></p>\n\n<p style="box-sizing: inherit\; margin: 0px 0px 15px\; color: rgb(68\, 68\, 68)\; font-family: &quot\;Pontano Sans&quot\;\, sans-serif\; font-size: 18px\; background-color: rgb(255\, 255\, 255)\;"><span style="font-size:14px\;">La Porte Jaycees projects focus on three major areas: Management Development (money-making projects and membership communication)\, Individual Development (leadership skills and social functions)\, and Community Development (youth\, senior citizens\, environment\, and recreation).</span></p>\n\n<p style="box-sizing: inherit\; margin: 0px 0px 15px\; color: rgb(68\, 68\, 68)\; font-family: &quot\;Pontano Sans&quot\;\, sans-serif\; font-size: 18px\; background-color: rgb(255\, 255\, 255)\;"><span style="font-size:14px\;">The La Porte Jaycees continue to be a premier organization in the field of leadership training and in service to the community of La Porte.</span></p>\n</div>\n
LOCATION:Healthcare Foundation of La Porte 286 W. Johnson Road\, Suite E. La Porte\, IN
UID:e.1949.4270
SEQUENCE:3
DTSTAMP:20260423T232235Z
URL:https://members.laportepartnership.com/events/details/la-porte-jaycees-december-general-meeting-holiday-potluck-4270
END:VEVENT

END:VCALENDAR
