BEGIN:VCALENDAR
VERSION:2.0
PRODID:-//ChamberMaster//Event Calendar 2.0//EN
METHOD:PUBLISH
X-PUBLISHED-TTL:P3D
REFRESH-INTERVAL:P3D
CALSCALE:GREGORIAN
BEGIN:VEVENT
DTSTART:20180630T140000Z
DTEND:20180630T160000Z
X-MICROSOFT-CDO-ALLDAYEVENT:FALSE
SUMMARY:La Porte Police Department's Bike Safety Rodeo
DESCRIPTION:The La Porte Police Department will have a Bike Safety Rodeo on June 30th from 9:00 a.m.-11:00 a.m. at Kesling Park\, 2150 A. Street in La Porte. The location will be in the large parking lot between the back ball fields.\n\n\n\nCome on out for a fun free day of bike safety and test your skills on our course. Bring your kids\, bikes and helmets. Fun to kids from 5-12! We will also have free bike inspections and safety checks to be sure your helmet fits properly. We will be giving out some bike equipment while supplies last and also be doing a drawing for a free bike.
X-ALT-DESC;FMTTYPE=text/html:The La Porte Police Department will have a Bike Safety Rodeo on June 30th from 9:00 a.m.-11:00 a.m. at Kesling Park\, 2150 A. Street in La Porte. The location will be in the large parking lot between the back ball fields.<br />\n<br />\nCome on out for a fun free day of bike safety and test your skills on our course. Bring your kids\, bikes and helmets. Fun to kids from 5-12! We will also have free bike inspections and safety checks to be sure your helmet fits properly. We will be giving out some bike equipment while supplies last and also be doing a drawing for a free bike.
LOCATION:Kesling Park 2150 A Street La Porte
UID:e.1949.4193
SEQUENCE:3
DTSTAMP:20260424T104340Z
URL:https://members.laportepartnership.com/events/details/la-porte-police-department-s-bike-safety-rodeo-4193
END:VEVENT

END:VCALENDAR
