BEGIN:VCALENDAR
VERSION:2.0
PRODID:-//ChamberMaster//Event Calendar 2.0//EN
METHOD:PUBLISH
X-PUBLISHED-TTL:P3D
REFRESH-INTERVAL:P3D
CALSCALE:GREGORIAN
BEGIN:VEVENT
DTSTART:20171118T180000Z
DTEND:20171118T220000Z
X-MICROSOFT-CDO-ALLDAYEVENT:FALSE
SUMMARY:La Pour Brew & Wine Fest 2017
DESCRIPTION:La Pour Brew & Wine Fest is ON! And this year's event promises to be the best yet.\n\n\n\nJoin DeCamp's Band of Brothers Foundation for the third annual La Pour Brew & Wine Fest\, featuring live music by Rich Hardesty\, on Saturday\, November 18\, at the La Porte Civic Auditorium. VIP Admission begins at noon\, with General Admission running from 1-4 p.m.\n\n\n\nThe event will feature over 25 breweries and wineries from throughout the region\, state and country offering samples of over 50 beers and wines. Beer and wine sampling is included in ticket price. Food and soft drinks will be available for purchase.\n\n\n\nHardesty is an independent artist from La Porte\, now going on three decades in the music industry. Starting with the 1992 release of his album "Jones'n\," Hardesty has enjoyed a successful recording career and has toured nationally. His signature sound stems from the diversity of the beautiful world constantly surrounding and inspiring him. He takes his fans on a unique "Jamerican" musical journey by fusing the emotions of the tropics of Jamaica with his feel good vibe from the corn fields of Indiana.\n\n\n\nAdditional music for the event will be provided by After Dark DJ Service.\n\n\n\nAll proceeds benefit DeCamp's Band of Brothers Foundation and its efforts to renovate Clarke Park. Tickets are $55 for VIP Admission (including gift and early admission) and $35 for General Admission. Designated driver tickets (including unlimited soft drinks) are $15 for VIP Admission and $10 for General Admission.\n\n\n\nPurchase tickets in advance at the Civic Auditorium (1001 Ridge Street) or Greater La Porte Chamber of Commerce (803 Washington Street) or online at lapourbrew-winefest2017.eventbrite.com. Tickets sold at the door the day of the event if available.\n\n\n\nFor more information\, call the Civic Auditorium at 219-362-2325 or e-mail Brett Binversie at bbinversie@cityoflaportein.gov
X-ALT-DESC;FMTTYPE=text/html:<span style="color: rgb(75\, 79\, 86)\; font-family: Helvetica\, Arial\, sans-serif\; font-size: 14px\; background-color: rgb(255\, 255\, 255)\;">La Pour Brew &amp\; Wine Fest is ON! And this year&rsquo\;s event promises to be the best yet.</span><br style="color: rgb(75\, 79\, 86)\; font-family: Helvetica\, Arial\, sans-serif\; font-size: 14px\; background-color: rgb(255\, 255\, 255)\;" />\n<br style="color: rgb(75\, 79\, 86)\; font-family: Helvetica\, Arial\, sans-serif\; font-size: 14px\; background-color: rgb(255\, 255\, 255)\;" />\n<span style="color: rgb(75\, 79\, 86)\; font-family: Helvetica\, Arial\, sans-serif\; font-size: 14px\; background-color: rgb(255\, 255\, 255)\;">Join DeCamp&rsquo\;s Band of Brothers Foundation for the third annual La Pour Brew &amp\; Wine Fest\, featuring live music by Rich Hardesty\, on Saturday\, November 18\, at the La Porte Civic Auditorium. VIP Admission begins at noon\, with General Admission running from 1-4 p.m.</span><br style="color: rgb(75\, 79\, 86)\; font-family: Helvetica\, Arial\, sans-serif\; font-size: 14px\; background-color: rgb(255\, 255\, 255)\;" />\n<br style="color: rgb(75\, 79\, 86)\; font-family: Helvetica\, Arial\, sans-serif\; font-size: 14px\; background-color: rgb(255\, 255\, 255)\;" />\n<span style="color: rgb(75\, 79\, 86)\; font-family: Helvetica\, Arial\, sans-serif\; font-size: 14px\; background-color: rgb(255\, 255\, 255)\;">The event will feature over 25 breweries and wineries from throughout the region\, state and country offering samples of over 50 beers and wines. Beer and wine sampling is included in ticket price. Food and soft drinks will be available for purchase.</span><br style="color: rgb(75\, 79\, 86)\; font-family: Helvetica\, Arial\, sans-serif\; font-size: 14px\; background-color: rgb(255\, 255\, 255)\;" />\n<br style="color: rgb(75\, 79\, 86)\; font-family: Helvetica\, Arial\, sans-serif\; font-size: 14px\; background-color: rgb(255\, 255\, 255)\;" />\n<span style="color: rgb(75\, 79\, 86)\; font-family: Helvetica\, Arial\, sans-serif\; font-size: 14px\; background-color: rgb(255\, 255\, 255)\;">Hardesty is an independent artist from La Porte\, now going on three decades in the music industry. Starting with the 1</span><span class="text_exposed_show" style="display: inline\; font-family: Helvetica\, Arial\, sans-serif\; color: rgb(75\, 79\, 86)\; font-size: 14px\; background-color: rgb(255\, 255\, 255)\;">992 release of his album &ldquo\;Jones&rsquo\;n\,&rdquo\; Hardesty has enjoyed a successful recording career and has toured nationally. His signature sound stems from the diversity of the beautiful world constantly surrounding and inspiring him. He takes his fans on a unique &ldquo\;Jamerican&rdquo\; musical journey by fusing the emotions of the tropics of Jamaica with his feel good vibe from the corn fields of Indiana.<br />\n<br />\nAdditional music for the event will be provided by After Dark DJ Service.<br />\n<br />\nAll proceeds benefit DeCamp&rsquo\;s Band of Brothers Foundation and its efforts to renovate Clarke Park. Tickets are $55 for VIP Admission (including gift and early admission) and $35 for General Admission. Designated driver tickets (including unlimited soft drinks) are $15 for VIP Admission and $10 for General Admission.<br />\n<br />\nPurchase tickets in advance at the Civic Auditorium (1001 Ridge Street) or Greater La Porte Chamber of Commerce (803 Washington Street) or online at&nbsp\;<a data-lynx-mode="async" href="https://l.facebook.com/l.php?u=http%3A%2F%2Flapourbrew-winefest2017.eventbrite.com%2F&amp\;h=ATNX9RAlXZE7rW2KXt-FESno1D4diBl7WupKrGRVhfp-kM5VG8amzbjGRTztfe2HQx1V6V-2PZKwnYjU-Qil096By8XvcoAh3Uui_itQ4p7xMNJJXPoKonL3OC1fZSbVnzQNGdnDSQsRZdAAUDvjFQVyBpatS5j-yH6F_D7eBwbiJQ" rel="nofollow noopener" style="color: rgb(54\, 88\, 153)\; cursor: pointer\; text-decoration-line: none\; font-family: inherit\;" target="_blank"><span style="font-family: inherit\;">lapourbrew-winefest2017.ev</span><wbr />entbrite.com.</a>&nbsp\;Tickets sold at the door the day of the event if available.<br />\n<br />\n<span style="font-family: inherit\;">For more information\, call the Civic Auditorium at 219-362-2325 or e-mail Brett Binversie at bbinversie@cityoflaportein</span><wbr />.gov</span>
LOCATION:La Porte Civic Auditorium 1001 Ridge Street
UID:e.1949.2927
SEQUENCE:3
DTSTAMP:20260424T211133Z
URL:https://members.laportepartnership.com/events/details/la-pour-brew-wine-fest-2017-2927
END:VEVENT

END:VCALENDAR
