BEGIN:VCALENDAR
VERSION:2.0
PRODID:-//ChamberMaster//Event Calendar 2.0//EN
METHOD:PUBLISH
X-PUBLISHED-TTL:P3D
REFRESH-INTERVAL:P3D
CALSCALE:GREGORIAN
BEGIN:VEVENT
DTSTART:20190608T230000Z
DTEND:20190609T030000Z
X-MICROSOFT-CDO-ALLDAYEVENT:FALSE
SUMMARY:"La Vie en Rose" Garden Ball
DESCRIPTION:Join us for our 4th annual fundraising event at Blue Chip Casino! Help the Gardens continue to grow and prosper! Tickets on sale on our website.
X-ALT-DESC;FMTTYPE=text/html:<p><span style="background-color:transparent\; color:rgb(0\, 0\, 0)\; font-family:times new roman\; font-size:12pt">Join us for our 4th annual fundraising event at Blue Chip Casino! Help the Gardens continue to grow and prosper! Tickets on sale on our website.</span></p>\n
LOCATION:Blue Chip Casino 777 Blue Chip Drive Michigan City\, IN 46360
UID:e.1949.4319
SEQUENCE:3
DTSTAMP:20260423T133258Z
URL:https://members.laportepartnership.com/events/details/la-vie-en-rose-garden-ball-4319
END:VEVENT

END:VCALENDAR
