BEGIN:VCALENDAR
VERSION:2.0
PRODID:-//ChamberMaster//Event Calendar 2.0//EN
METHOD:PUBLISH
X-PUBLISHED-TTL:P3D
REFRESH-INTERVAL:P3D
CALSCALE:GREGORIAN
BEGIN:VEVENT
DTSTART:20161117T230000Z
DTEND:20161118T010000Z
X-MICROSOFT-CDO-ALLDAYEVENT:FALSE
SUMMARY:Ladies Night Out!
DESCRIPTION:Enjoy a Night Out with the GIrls. Shop Local and Discover new shops
X-ALT-DESC;FMTTYPE=text/html:<span style="color: rgb(75\, 79\, 86)\; font-family: Helvetica\, Arial\, sans-serif\; font-size: 14px\;">Enjoy a Night Out with the GIrls. Shop Local and Discover new shops</span>
LOCATION:Downtown La Porte
UID:e.1949.2672
SEQUENCE:3
DTSTAMP:20260425T204121Z
URL:https://members.laportepartnership.com/events/details/ladies-night-out-2672
END:VEVENT

END:VCALENDAR
