BEGIN:VCALENDAR
VERSION:2.0
PRODID:-//ChamberMaster//Event Calendar 2.0//EN
METHOD:PUBLISH
X-PUBLISHED-TTL:P3D
REFRESH-INTERVAL:P3D
CALSCALE:GREGORIAN
BEGIN:VEVENT
DTSTART:20170330T230000Z
DTEND:20170331T030000Z
X-MICROSOFT-CDO-ALLDAYEVENT:FALSE
SUMMARY:Lakefront Super Social
DESCRIPTION:Mark Kehoskie and Bryan Konieczny\, owners of Matey's Bar and Restaurant\, are pleased to announce a new and exciting collaboration with United Way of LaPorte County. Matey's will be hosting an epic event featuring a grand buffet with carving stations\, open bar\, samples from area liquor venders\, cigars from around the world featuring the famous "Cigar Guys" from Chicago\, and live entertainment. Tickets are $125 per person and a table of eight is $1\,000. This "Lakefront Super Social" will take place on March 30\, 2017 from 6-10pm. This is a ticketed event\; as Matey's will be closed to the public to host this upscale fundraiser for United Way. For tickets and sponsorship information please contact Dave Sisk with United Way of LaPorte County at dave@unitedwaylpc.org or visit www.BigSocial.org.
X-ALT-DESC;FMTTYPE=text/html:<p style="margin-top:5.0pt\;margin-right:11.25pt\;margin-bottom:5.0pt\;margin-left:\n11.25pt"><span style="font-family: Arial\, sans-serif\; background-image: initial\; background-position: initial\; background-size: initial\; background-repeat: initial\; background-attachment: initial\; background-origin: initial\; background-clip: initial\;">Mark Kehoskie and<span class="apple-converted-space">&nbsp\;</span><em>Bryan</em><span class="apple-converted-space">&nbsp\;</span>Konieczny\, owners of<span class="apple-converted-space">&nbsp\;</span><em>Matey&#39\;s Bar</em><span class="apple-converted-space">&nbsp\;</span>and <em>Restaurant\,</em></span><span style="font-family:&quot\;Arial&quot\;\,sans-serif"> are pleased to announce a new and exciting collaboration with United Way of LaPorte County. Matey&rsquo\;s will be hosting an epic event featuring a grand buffet with carving stations\, open bar\, samples from area liquor venders\, cigars from around the world featuring the famous &ldquo\;Cigar Guys&rdquo\; from Chicago\, and live entertainment. Tickets are $125 per person and a table of eight is $1\,000. This &ldquo\;Lakefront Super Social&rdquo\; will take place on March 30\, 2017 from 6-10pm. This is a ticketed event\; as Matey&rsquo\;s will be closed to the public to host this upscale fundraiser for United Way. For tickets and sponsorship information please contact Dave Sisk with United Way of LaPorte County at </span><a href="mailto:dave@unitedwaylpc.org"><span style="font-family:\n&quot\;Arial&quot\;\,sans-serif">dave@unitedwaylpc.org</span></a><span style="font-family:\n&quot\;Arial&quot\;\,sans-serif"> or visit </span><a href="http://www.bigsocial.org/"><span style="font-family:&quot\;Arial&quot\;\,sans-serif">www.BigSocial.org</span></a><span style="font-family:&quot\;Arial&quot\;\,sans-serif">.<o:p></o:p></span></p>\n
LOCATION:Matey's Bar 110 Franklin Street Michigan City
UID:e.1949.2738
SEQUENCE:3
DTSTAMP:20260425T114402Z
URL:https://members.laportepartnership.com/events/details/lakefront-super-social-2738
END:VEVENT

END:VCALENDAR
