BEGIN:VCALENDAR
VERSION:2.0
PRODID:-//ChamberMaster//Event Calendar 2.0//EN
METHOD:PUBLISH
X-PUBLISHED-TTL:P3D
REFRESH-INTERVAL:P3D
CALSCALE:GREGORIAN
BEGIN:VEVENT
DTSTART:20190521T160000Z
DTEND:20190521T180000Z
X-MICROSOFT-CDO-ALLDAYEVENT:FALSE
SUMMARY:Lakeshore SHRM Member Meeting: CBD Oil & Medical Merijuana - A Joint Approach
DESCRIPTION:There has been much buzz around cannabis products lately\; CBD oil or cannabidiol is the newest cure all on the market.  It claims to treat everything from anxiety and stress to ADHD and pain relief\, but it's use is controversial.  Products containing CBD oil are now legal in Indiana where marijuana is not.  Dr. Sayers will explain what CBD oil is\, how it differs from marijuana and how it affects employees in the workplace and drug screening results.\n\nAgenda:\n\n11:00 am - 11:15 am: Registration\n\n11:15 am - 11:35 am: SHRM Update/Membership Meeting\n\n11:35 am - 11:45 am: Lunch Served/Member Announcements\n\n11:45 am - 11:55 am: Sponsor Intro\n\n11:55 am - 12:00 pm: Guest Speaker Into\n\n12:00 pm -   1:00 pm: Main Presentation\n\nLunch:\n\nTBD\n\nGuests should register seperately.\n\nNO SHOW Policy/Cancellations:  NIHRMA must pay for all reservations\;\n\ntherefore\, you will be billed for your reserved meal if cancellations are not made 48 hours in advance. Registration Deadline: Friday\, May 22nd.
X-ALT-DESC;FMTTYPE=text/html:<p>There has been much buzz around cannabis products lately\; CBD oil or cannabidiol is the newest cure all on the market.&nbsp\; It claims to treat everything from anxiety and stress to ADHD and pain relief\, but it&#39\;s use is controversial.&nbsp\; Products containing CBD oil are now legal in Indiana where marijuana is not.&nbsp\; Dr. Sayers will explain what CBD oil is\, how it differs from marijuana and how it affects employees in the workplace and drug screening results.</p>\n\n<h3><strong>Agenda:</strong></h3>\n\n<h5>11:00 am - 11:15 am: Registration</h5>\n\n<h5>11:15 am - 11:35 am: SHRM Update/Membership Meeting</h5>\n\n<h5>11:35 am - 11:45 am: Lunch Served/Member Announcements</h5>\n\n<h5>11:45 am - 11:55 am: Sponsor Intro</h5>\n\n<h5>11:55 am - 12:00 pm: Guest Speaker Into</h5>\n\n<h5>12:00 pm - &nbsp\; 1:00 pm: Main Presentation</h5>\n\n<h4><strong>Lunch:</strong></h4>\n\n<p><strong>TBD</strong></p>\n\n<h5><strong>Guests should register seperately.</strong></h5>\n\n<p><strong><em>NO SHOW Policy/Cancellations:&nbsp\;&nbsp\;</em></strong><em>NIHRMA must pay for all reservations\;</em><br />\n<em>therefore\, you will be billed for your reserved meal if cancellations are not made 48 hours in advance.&nbsp\;</em><strong><em>Registration Deadline: Friday\, May 22nd.</em></strong></p>\n
LOCATION:Purdue Northwest Dworkin Student Services & Activities 1401 S US 421 Westville\, IN 46391
UID:e.1949.4358
SEQUENCE:3
DTSTAMP:20260423T170451Z
URL:https://members.laportepartnership.com/events/details/lakeshore-shrm-member-meeting-cbd-oil-medical-merijuana-a-joint-approach-4358
END:VEVENT

END:VCALENDAR
