BEGIN:VCALENDAR
VERSION:2.0
PRODID:-//ChamberMaster//Event Calendar 2.0//EN
METHOD:PUBLISH
X-PUBLISHED-TTL:P3D
REFRESH-INTERVAL:P3D
CALSCALE:GREGORIAN
BEGIN:VEVENT
DTSTART:20170714T130000Z
DTEND:20170714T230000Z
X-MICROSOFT-CDO-ALLDAYEVENT:FALSE
SUMMARY:LaPorte Co. 4-H Livestock Auction
DESCRIPTION:LaPorte County 4-H members will be auctioning their animals at the annual Livestock Auction.
X-ALT-DESC;FMTTYPE=text/html:LaPorte County 4-H members will be auctioning their animals at the annual Livestock Auction.
LOCATION:LaPorte County Fairgrounds 2581 West State Road 2 LaPorte\, In 46350
UID:e.1949.2832
SEQUENCE:3
DTSTAMP:20260425T042114Z
URL:https://members.laportepartnership.com/events/details/laporte-co-4-h-livestock-auction-2832
END:VEVENT

END:VCALENDAR
