BEGIN:VCALENDAR
VERSION:2.0
PRODID:-//ChamberMaster//Event Calendar 2.0//EN
METHOD:PUBLISH
X-PUBLISHED-TTL:P3D
REFRESH-INTERVAL:P3D
CALSCALE:GREGORIAN
BEGIN:VEVENT
DTSTART:20190712T130000Z
DTEND:20190712T230000Z
X-MICROSOFT-CDO-ALLDAYEVENT:FALSE
SUMMARY:LaPorte County 4-H Auction
DESCRIPTION:
X-ALT-DESC;FMTTYPE=text/html:
LOCATION:LaPorte County Fairgrounds 2581 W. State Road 2\, LaPorte
UID:e.1949.4373
SEQUENCE:3
DTSTAMP:20260423T114404Z
URL:https://members.laportepartnership.com/events/details/laporte-county-4-h-auction-4373
END:VEVENT

END:VCALENDAR
