BEGIN:VCALENDAR
VERSION:2.0
PRODID:-//ChamberMaster//Event Calendar 2.0//EN
METHOD:PUBLISH
X-PUBLISHED-TTL:P3D
REFRESH-INTERVAL:P3D
CALSCALE:GREGORIAN
BEGIN:VEVENT
DTSTART:20180612T230000Z
DTEND:20180613T003000Z
X-MICROSOFT-CDO-ALLDAYEVENT:FALSE
SUMMARY:LaPorte County Relay for Life Meeting Bank Night
DESCRIPTION:If you are interested in finding out more about Relay For Life or how to become involved\, join us for our monthly meeting. Our meetings will be held on the 2nd Tuesday of each month from now on at the LaPorte First Church of God (2020 E Lincolnway) at 6pm. Each month focuses on one of the many aspects of Relaying\, such as fundraisers\, how to build your team\, contests and activities.
X-ALT-DESC;FMTTYPE=text/html:If you are interested in finding out more about Relay For Life or how to become involved\, join us for our monthly meeting. Our meetings will be held on the 2nd Tuesday of each month from now on at the LaPorte First Church of God (2020 E Lincolnway) at 6pm. Each month focuses on one of the many aspects of Relaying\, such as fundraisers\, how to build your team\, contests and activities.
LOCATION:LaPorte First Church of God (2020 E Lincolnway)
UID:e.1949.3007
SEQUENCE:3
DTSTAMP:20260424T090426Z
URL:https://members.laportepartnership.com/events/details/laporte-county-relay-for-life-meeting-bank-night-3007
END:VEVENT

END:VCALENDAR
