BEGIN:VCALENDAR
VERSION:2.0
PRODID:-//ChamberMaster//Event Calendar 2.0//EN
METHOD:PUBLISH
X-PUBLISHED-TTL:P3D
REFRESH-INTERVAL:P3D
CALSCALE:GREGORIAN
BEGIN:VEVENT
DTSTART:20170311T160000Z
DTEND:20170311T200000Z
X-MICROSOFT-CDO-ALLDAYEVENT:FALSE
SUMMARY:LaPorte Lacrosse Port-a-Pit Fundraiser
DESCRIPTION:NELSONS PORT A PIT LaPorte Lacrosse Chicken & Chops $7 Pit-tatoes $3.50 *Pre-Sale pick up by 12pm
X-ALT-DESC;FMTTYPE=text/html:NELSONS PORT A PIT LaPorte Lacrosse Chicken &amp\; Chops $7 Pit-tatoes $3.50 *Pre-Sale pick up by 12pm
LOCATION:Kabelin's Ace Hardware 512 Andrew Ave. LaPorte\, IN 46350
UID:e.1949.2722
SEQUENCE:3
DTSTAMP:20260425T114516Z
URL:https://members.laportepartnership.com/events/details/laporte-lacrosse-port-a-pit-fundraiser-2722
END:VEVENT

END:VCALENDAR
