BEGIN:VCALENDAR
VERSION:2.0
PRODID:-//ChamberMaster//Event Calendar 2.0//EN
METHOD:PUBLISH
X-PUBLISHED-TTL:P3D
REFRESH-INTERVAL:P3D
CALSCALE:GREGORIAN
BEGIN:VEVENT
DTSTART:20180310T160000Z
DTEND:20180310T200000Z
X-MICROSOFT-CDO-ALLDAYEVENT:FALSE
SUMMARY:LaPorte Lacrosse Pot-a-Pit Fundraiser
DESCRIPTION:Nelson's Port-a-Pit Fundraiser Chicken & Chops $7.00 Pit-tatoes $3.50 *Pre-sale guaranteed till 12pm.
X-ALT-DESC;FMTTYPE=text/html:Nelson&#39\;s Port-a-Pit Fundraiser Chicken &amp\; Chops $7.00 Pit-tatoes $3.50 *Pre-sale guaranteed till 12pm.
LOCATION:Kabelin's Ace Hardware 812 Andrew Ave. LaPorte\, IN 46350
UID:e.1949.3072
SEQUENCE:3
DTSTAMP:20260424T133943Z
URL:https://members.laportepartnership.com/events/details/laporte-lacrosse-pot-a-pit-fundraiser-3072
END:VEVENT

END:VCALENDAR
