BEGIN:VCALENDAR
VERSION:2.0
PRODID:-//ChamberMaster//Event Calendar 2.0//EN
METHOD:PUBLISH
X-PUBLISHED-TTL:P3D
REFRESH-INTERVAL:P3D
CALSCALE:GREGORIAN
BEGIN:VEVENT
DTSTART:20170824T124500Z
DTEND:20170824T141500Z
X-MICROSOFT-CDO-ALLDAYEVENT:FALSE
SUMMARY:LaPorteCountyLife.com Breakfast Seminar- Motionisms
DESCRIPTION:The Greater La Porte Chamber of Commerce will host a seminar breakfast focusing on "Motionisms" on Thursday\, August 24 at the Greater La Porte Chamber of Commerce\, located at 803 Washington Street in La Porte. LaPorteCountyLife.com will provide information on their Motionisms and how they have helped their organization to have better team efficiency. This seminar will be great topic for those in organizational or team leadership.\n\nRegistration will begin at 7:45 a.m.\, and the program will begin at 8:00 a.m. This seminar is also sponsored by LaPorteCountyLife.com\, and food will be available from Caf  Trilogy.\n\nFor more information about the event\, please visit www.lpchamber.com and view the event under the events page. Those interested in attending may register online or call the Chamber at 219.362.3178. General admission will be $17\, while member pricing will be $12.\n\nTo learn more about LaPoreCountyLife.com\, visit their website or view their various social media profiles including Facebook and Twitter.
X-ALT-DESC;FMTTYPE=text/html:<span style="font-family:georgia\,serif\;"><span style="font-size:12.0pt\;">The Greater La Porte Chamber of Commerce will host a seminar breakfast focusing on &ldquo\;Motionisms&rdquo\; on Thursday\, August 24 at the Greater La Porte Chamber of Commerce\, located at 803 Washington Street in La Porte. LaPorteCountyLife.com will provide information on their Motionisms and how they have helped their organization to have better team efficiency. This seminar will be great topic for those in organizational or team leadership.</span></span><br />\n<span style="font-family:georgia\,serif\;"><span style="font-size:12.0pt\;">Registration will begin at 7:45 a.m.\, and the program will begin at 8:00 a.m. This seminar is also sponsored by LaPorteCountyLife.com\, and food will be available from Caf&eacute\; Trilogy.</span></span><br />\n<span style="font-family:georgia\,serif\;"><span style="font-size:12.0pt\;">For more information about the event\, please visit www.lpchamber.com and view the event under the events page. Those interested in attending may register online or call the Chamber at 219.362.3178. General admission will be $17\, while member pricing will be $12.</span></span><br />\n<span style="font-family:georgia\,serif\;"><span style="font-size:12.0pt\;">To learn more about LaPoreCountyLife.com\, visit their website or view their various social media profiles including Facebook and Twitter.</span></span>
LOCATION:Greater La Porte Chamber of Commerce 803 Washington St.
UID:e.1949.2837
SEQUENCE:3
DTSTAMP:20260425T021456Z
URL:https://members.laportepartnership.com/events/details/laportecountylife-com-breakfast-seminar-motionisms-2837
END:VEVENT

END:VCALENDAR
