BEGIN:VCALENDAR
VERSION:2.0
PRODID:-//ChamberMaster//Event Calendar 2.0//EN
METHOD:PUBLISH
X-PUBLISHED-TTL:P3D
REFRESH-INTERVAL:P3D
CALSCALE:GREGORIAN
BEGIN:VEVENT
DTSTART:20180915T230000Z
DTEND:20180916T040000Z
X-MICROSOFT-CDO-ALLDAYEVENT:FALSE
SUMMARY:Last Chance for White Pants
DESCRIPTION:This is it! Your "Last Chance for White Pants" for the season at a fun event sponsored by the Visiting Nurse Association of NWI. This summer casual event (white pants are optional!) will feature a gourmet dinner\, open bar\, live music featuring The Unit\, and dancing\, as well as the opportunity to bid on some special live and silent auction items. Last Chance for White Pants will be held at the Blue Chip Casino in Michigan City on Saturday\, September 15th from 6 pm until 11pm. Tickets are $125 per person and are available online at www.vnanwi.org/latest-events or by calling 219-531-8078. Proceeds from the event will support renovations and improvements at the Arthur B. and Ethel V. Horton VNA Hospice Center. Since opening in 2002\, the VNA Hospice Center has provided compassionate comfort and care to more than 5\,000 patients and their families.
X-ALT-DESC;FMTTYPE=text/html:This is it! Your &ldquo\;Last Chance for White Pants&rdquo\; for the season at a fun event sponsored by the Visiting Nurse Association of NWI. This summer casual event (white pants are optional!) will feature a gourmet dinner\, open bar\, live music featuring The Unit\, and dancing\, as well as the opportunity to bid on some special live and silent auction items. Last Chance for White Pants will be held at the Blue Chip Casino in Michigan City on Saturday\, September 15th from 6 pm until 11pm. Tickets are $125 per person and are available online at www.vnanwi.org/latest-events or by calling 219-531-8078. Proceeds from the event will support renovations and improvements at the Arthur B. and Ethel V. Horton VNA Hospice Center. Since opening in 2002\, the VNA Hospice Center has provided compassionate comfort and care to more than 5\,000 patients and their families.
LOCATION:Blue Chip Casino 777 Blue Chip Drive\, Michigan City\, Indiana 46360
UID:e.1949.4220
SEQUENCE:3
DTSTAMP:20260424T054638Z
URL:https://members.laportepartnership.com/events/details/last-chance-for-white-pants-4220
END:VEVENT

END:VCALENDAR
