BEGIN:VCALENDAR
VERSION:2.0
PRODID:-//ChamberMaster//Event Calendar 2.0//EN
METHOD:PUBLISH
X-PUBLISHED-TTL:P3D
REFRESH-INTERVAL:P3D
CALSCALE:GREGORIAN
BEGIN:VEVENT
DTSTART:20160929T230000Z
DTEND:20160930T010000Z
X-MICROSOFT-CDO-ALLDAYEVENT:FALSE
SUMMARY:Leadership La Porte County Wine\, Appetizers & Canvas Event
DESCRIPTION:Welcome to our first ever Wine & Canvas Event! Explore your creativity and enjoy a night of networking and fun. All materials will be provided\, along with appetizers and beverages.\n\n\n\nThe cost to attend is $40 for a single reservation. Bring a friend and your cost is $70 for the two of you.\n\n\n\nSpace is limited so register today!
X-ALT-DESC;FMTTYPE=text/html:Welcome to our first ever Wine &amp\; Canvas Event! Explore your creativity and enjoy a night of networking and fun. All materials will be provided\, along with appetizers and beverages.<br />\n<br />\nThe cost to attend is $40 for a single reservation. Bring a friend and your cost is $70 for the two of you.<br />\n<br />\nSpace is limited so register today!
LOCATION:809 Washington St.\, Suite B La Porte
UID:e.1949.2627
SEQUENCE:3
DTSTAMP:20260425T223531Z
URL:https://members.laportepartnership.com/events/details/leadership-la-porte-county-wine-appetizers-canvas-event-2627
END:VEVENT

END:VCALENDAR
