BEGIN:VCALENDAR
VERSION:2.0
PRODID:-//ChamberMaster//Event Calendar 2.0//EN
METHOD:PUBLISH
X-PUBLISHED-TTL:P3D
REFRESH-INTERVAL:P3D
CALSCALE:GREGORIAN
BEGIN:VEVENT
DTSTART:20200417T193000Z
DTEND:20200417T203000Z
X-MICROSOFT-CDO-ALLDAYEVENT:FALSE
SUMMARY:LEAP Presents: Ask the Experts
DESCRIPTION:Join us on April 17th at 2:30 p.m. as LEAP hosts a virtual workshop that will focus on updates and questions for our small business community on resources including capital\, IRS updates\, grants and other items that might be of help for our businesses trying to manage these processes. Our experts will include Lorri Feldt from the NWI Small Business Development Center\, Marie Fruth from the Healthcare Foundation of La Porte\, Erica Dombey from the Regional Development Corporation\, Bill Gertner from Horizon Bank and Jessica Romine from Parkison and Hinton Inc PC. Mike Riehle will host the event on behalf of LEAP.\n\n\n\nWe ask that you please register with Lindsay at lindsayj@laportepartnership.com if interested in joining. Each attendee will be provided with a link to log into the virtual meeting.
X-ALT-DESC;FMTTYPE=text/html:<span style="color: rgb(29\, 33\, 41)\; font-family: Helvetica\, Arial\, sans-serif\; font-size: 14px\; white-space: pre-wrap\; background-color: rgb(255\, 255\, 255)\;">Join us on April 17th at 2:30 p.m. as LEAP hosts a virtual workshop that will focus on updates and questions for our small business community on resources including capital\, IRS updates\, grants and other items that might be of help for our businesses trying to manage these processes. Our experts will include Lorri Feldt from the NWI Small Business Development Center\, Marie Fruth from the Healthcare Foundation of La Porte\, Erica Dombey from the Regional Development Corporation\, Bill Gertner from Horizon Bank and Jessica Romine from Parkison and Hinton Inc PC. Mike Riehle will host the event on behalf of LEAP.</span><br style="color: rgb(29\, 33\, 41)\; font-family: Helvetica\, Arial\, sans-serif\; font-size: 14px\; white-space: pre-wrap\; background-color: rgb(255\, 255\, 255)\;" />\n<br style="color: rgb(29\, 33\, 41)\; font-family: Helvetica\, Arial\, sans-serif\; font-size: 14px\; white-space: pre-wrap\; background-color: rgb(255\, 255\, 255)\;" />\n<span style="color: rgb(29\, 33\, 41)\; font-family: Helvetica\, Arial\, sans-serif\; font-size: 14px\; white-space: pre-wrap\; background-color: rgb(255\, 255\, 255)\;">We ask that you please register with Lindsay at lindsayj@laportepartnership.com if interested in joining. Each attendee will be provided with a link to log into the virtual meeting.</span>
LOCATION:Your Home or Office
UID:e.1949.4586
SEQUENCE:3
DTSTAMP:20260422T192457Z
URL:https://members.laportepartnership.com/events/details/leap-presents-ask-the-experts-4586
END:VEVENT

END:VCALENDAR
