BEGIN:VCALENDAR
VERSION:2.0
PRODID:-//ChamberMaster//Event Calendar 2.0//EN
METHOD:PUBLISH
X-PUBLISHED-TTL:P3D
REFRESH-INTERVAL:P3D
CALSCALE:GREGORIAN
BEGIN:VEVENT
DTSTART:20160908T213000Z
DTEND:20160908T223000Z
X-MICROSOFT-CDO-ALLDAYEVENT:FALSE
SUMMARY:Liberty Bible Church Ribbon Cutting
DESCRIPTION:Join Liberty Bible Church for a ribbon cutting on Thursday\, September 8th at 4:30 p.m. The church is holding the ribbon cutting to celebrate the remodeling of their new worship sanctuary. The event will take place at 608 Colfax Avenue in La Porte and will be administered by the Greater La Porte Chamber of Commerce.\n\nLiberty Bible Church is a multi-site church that meets in Chesterton and LaPorte. With this church\, you get the resources of the larger church and the intimacy of a smaller church. The LaPorte campus meets in the former theatre. It is a fun and unique meeting place. Come visit and see how the space has been updated while enjoying some light refreshments.\n\nFor more information about Liberty Bible Church\, visit www.lbchurch.org or their Facebook page. For more information about the Greater La Porte Chamber of Commerce or to become a member\, visit www.lpchamber.com or call 219.362.3178.
X-ALT-DESC;FMTTYPE=text/html:<span style="color:black\;"><span style="font-family:arial\,sans-serif\;"><span style="font-size:10.0pt\;">Join <strong>Liberty Bible Church </strong>for a ribbon cutting on Thursday\, September 8th at 4:30 p.m. The church is holding the ribbon cutting to celebrate the remodeling of their new worship sanctuary. The event will take place at 608 Colfax Avenue in La Porte and will be administered by the Greater La Porte Chamber of Commerce.</span></span></span><br />\n<span style="color:black\;"><span style="font-family:arial\,sans-serif\;"><span style="font-size:10.0pt\;">Liberty Bible Church is a multi-site church that meets in Chesterton and LaPorte. With this church\, you get the resources of the larger church and the intimacy of a smaller church. The LaPorte campus meets in the former theatre. It is a fun and unique meeting place. Come visit and see how the space has been updated while enjoying some light refreshments.</span></span></span><br />\n<span style="color:black\;"><span style="font-family:arial\,sans-serif\;"><span style="font-size:10.0pt\;">For more information about Liberty Bible Church\, visit www.lbchurch.org or their Facebook page. For more information about the Greater La Porte Chamber of Commerce or to become a member\, visit </span></span></span><span style="font-family:arial\,sans-serif\;"><span style="font-size:10.0pt\;">www.lpchamber.com<span style="color:black\;"> or call 219.362.3178.</span></span></span>
LOCATION:Liberty Bible Church 608 Colfax Avenue La Porte
UID:e.1949.2612
SEQUENCE:3
DTSTAMP:20260425T223808Z
URL:https://members.laportepartnership.com/events/details/liberty-bible-church-ribbon-cutting-09-08-2016-2612
END:VEVENT

END:VCALENDAR
