BEGIN:VCALENDAR
VERSION:2.0
PRODID:-//ChamberMaster//Event Calendar 2.0//EN
METHOD:PUBLISH
X-PUBLISHED-TTL:P3D
REFRESH-INTERVAL:P3D
CALSCALE:GREGORIAN
BEGIN:VEVENT
DTSTART:20180510T210000Z
DTEND:20180511T000000Z
X-MICROSOFT-CDO-ALLDAYEVENT:FALSE
SUMMARY:Liberty Title & Escrow Ribbon Cutting
DESCRIPTION:Last year\, Liberty Title & Escrow Company opened a new location in the     La Porte area at 245 W. Johnson Road\, Unit 9. To celebrate this new location\, the business will host a ribbon cutting on Thursday\, May 10\, 2018 from 4:00 pm   7:00 pm. The ribbon cutting will be administered by the Greater La Porte Chamber of Commerce.\n\nLiberty Title & Escrow Company is a neighborhood provider of National settlement services   able to handle the most complex needs with a high level of personal service. To do this\, they have structured their company differently from our competitors. With Account Representatives in each region\, they're always ready and available to work with you and help you succeed\, not just at closing time.  The NW Indiana Liberty Title & Escrow Company Team is excited to serve you and has a reputation for Customer Service Excellence.  \n\nTo learn more about the business in your local area\, go to and like their Facebook page named Liberty Title Northwest Indiana or visit www.libtitle.com. For more information about the Greater La Porte Chamber of Commerce\, visit www.lpchamber.com\, like their Facebook page\, or call 219.362.3178.
X-ALT-DESC;FMTTYPE=text/html:<span style="font-family:georgia\,serif\;"><span style="font-size:12.0pt\;">Last year\, Liberty Title &amp\; Escrow Company opened a new location in the&nbsp\;&nbsp\;&nbsp\;&nbsp\; La Porte area at 245 W. Johnson Road\, Unit 9. To celebrate this new location\, the business will host a ribbon cutting on Thursday\, May 10\, 2018 from 4:00 pm &ndash\; 7:00 pm. The ribbon cutting will be administered by the Greater La Porte Chamber of Commerce.</span></span><br />\n<span style="font-family:georgia\,serif\;"><span style="font-size:12.0pt\;">Liberty Title &amp\; Escrow Company is a neighborhood provider of National settlement services &ndash\; able to handle the most complex needs with a high level of personal service. To do this\, they have structured their company differently from our competitors. With Account Representatives in each region\, they&rsquo\;re always ready and available to work with you and help you succeed\, not just at closing time.&nbsp\; The NW Indiana Liberty Title &amp\; Escrow Company Team is excited to serve you and has a reputation for Customer Service Excellence.&nbsp\; </span></span><br />\n<span style="font-family:georgia\,serif\;"><span style="font-size:12.0pt\;">To learn more about the business in your local area\, go to and like their Facebook page named Liberty Title Northwest Indiana or visit www.libtitle.com. For more information about the Greater La Porte Chamber of Commerce\, visit www.lpchamber.com\, like their Facebook page\, or call 219.362.3178.</span></span>
LOCATION:245 W. Johnson Road\, Unit 9 La Porte
UID:e.1949.4133
SEQUENCE:3
DTSTAMP:20260424T115600Z
URL:https://members.laportepartnership.com/events/details/liberty-title-escrow-ribbon-cutting-4133
END:VEVENT

END:VCALENDAR
