BEGIN:VCALENDAR
VERSION:2.0
PRODID:-//ChamberMaster//Event Calendar 2.0//EN
METHOD:PUBLISH
X-PUBLISHED-TTL:P3D
REFRESH-INTERVAL:P3D
CALSCALE:GREGORIAN
BEGIN:VEVENT
DTSTART:20180421T210000Z
DTEND:20180421T230000Z
X-MICROSOFT-CDO-ALLDAYEVENT:FALSE
SUMMARY:Lifesavers 6th Annual Spaghetti Dinner
DESCRIPTION:6th Annual Spaghetti Dinner Saturday\, April 21\, 2018 4:00 PM   7:00 PM $8.00 Dinner includes Spaghetti\, 2 pcs Garlic Bread\, Salad\,Drink & Dessert Carry Outs Available 100% of Proceeds Donated to Relay For Life
X-ALT-DESC;FMTTYPE=text/html:6th Annual Spaghetti Dinner Saturday\, April 21\, 2018 4:00 PM &ndash\; 7:00 PM $8.00 Dinner includes Spaghetti\, 2 pcs Garlic Bread\, Salad\,Drink &amp\; Dessert Carry Outs Available 100% of Proceeds Donated to Relay For Life
LOCATION:First Church of God (Next to Sauers in LaPorte) 2020 E Lincolnway LaPorte\, IN 46350
UID:e.1949.4107
SEQUENCE:3
DTSTAMP:20260424T134134Z
URL:https://members.laportepartnership.com/events/details/lifesavers-6th-annual-spaghetti-dinner-4107
END:VEVENT

END:VCALENDAR
