BEGIN:VCALENDAR
VERSION:2.0
PRODID:-//ChamberMaster//Event Calendar 2.0//EN
METHOD:PUBLISH
X-PUBLISHED-TTL:P3D
REFRESH-INTERVAL:P3D
CALSCALE:GREGORIAN
BEGIN:VEVENT
DTSTART:20180526T150000Z
DTEND:20180526T190000Z
X-MICROSOFT-CDO-ALLDAYEVENT:FALSE
SUMMARY:Lifesavers Annual Porta Pit Chicken
DESCRIPTION:Porta Pit Chicken Tickets On Sale Now!! Porta Pit Chicken Tickets On Sale Now!! We Accept Credit/Debit Cards!! Only $6.50 We'll have Taters Pre-Sale Tickets Guaranteed Until Noon Contact Shellie Clemons 219-561-6051
X-ALT-DESC;FMTTYPE=text/html:Porta Pit Chicken Tickets On Sale Now!! Porta Pit Chicken Tickets On Sale Now!! We Accept Credit/Debit Cards!! Only $6.50 We&rsquo\;ll have Taters Pre-Sale Tickets Guaranteed Until Noon Contact Shellie Clemons 219-561-6051
LOCATION:Al's Supermarket East 702 Lincolnway
UID:e.1949.4152
SEQUENCE:3
DTSTAMP:20260424T115718Z
URL:https://members.laportepartnership.com/events/details/lifesavers-annual-porta-pit-chicken-4152
END:VEVENT

END:VCALENDAR
