BEGIN:VCALENDAR
VERSION:2.0
PRODID:-//ChamberMaster//Event Calendar 2.0//EN
METHOD:PUBLISH
X-PUBLISHED-TTL:P3D
REFRESH-INTERVAL:P3D
CALSCALE:GREGORIAN
BEGIN:VEVENT
DTSTART:20190926T210000Z
DTEND:20190926T230000Z
X-MICROSOFT-CDO-ALLDAYEVENT:FALSE
SUMMARY:Listing Leaders Premier Ribbon Cutting
DESCRIPTION:Please join the La Porte Economic Advancement Partnership as we welcome Listing Leaders Premier to La Porte with a ribbon cutting ceremony. The event will take place at their office located at 700 Jefferson Avenue. The ribbon will be cut at 4:30 p.m.\n\n\n\nListing Leaders Premier is a real estate office serving La Porte\, Porter & Lake counties in buying\, selling\, building\, renting\, interior design & staging.
X-ALT-DESC;FMTTYPE=text/html:Please join the La Porte Economic Advancement Partnership as we welcome Listing Leaders Premier to La Porte with a ribbon cutting ceremony. The event will take place at their office located at 700 Jefferson Avenue. The ribbon will be cut at 4:30 p.m.<br />\n<br />\nListing Leaders Premier is a real estate office serving La Porte\, Porter &amp\; Lake counties in buying\, selling\, building\, renting\, interior design &amp\; staging.
LOCATION:700 Jefferson Avenue La Porte
UID:e.1949.4543
SEQUENCE:3
DTSTAMP:20260423T082216Z
URL:https://members.laportepartnership.com/events/details/listing-leaders-premier-ribbon-cutting-4543
END:VEVENT

END:VCALENDAR
