BEGIN:VCALENDAR
VERSION:2.0
PRODID:-//ChamberMaster//Event Calendar 2.0//EN
METHOD:PUBLISH
X-PUBLISHED-TTL:P3D
REFRESH-INTERVAL:P3D
CALSCALE:GREGORIAN
BEGIN:VEVENT
DTSTART:20180412T150000Z
DTEND:20180412T200000Z
X-MICROSOFT-CDO-ALLDAYEVENT:FALSE
SUMMARY:Little Black Dress Fashion Show & Boutique
DESCRIPTION:Join Goodwill for our annual Little Black Dress Fashion Show and Boutique in South Bend. This year we have moved to a new\, larger venue to make more room for our wildly popular boutique. This event will take place on April 12 from 10 a.m.-3 p.m. at the Century Center\, 120 S. Saint Joseph Street in South Bend. \n\n \n\nThe first Little Black Dress took place in South Bend in 2007 as a small gathering of Goodwill friends who enjoyed food\, fashion and fun!  Most importantly\, the mission of Goodwill Industries was shared with all who attended the event. What began as a modest event has grown into a bi-annual gala with a spring event held in South Bend\, Indiana and a fall show in Merrillville\, Indiana. At the heart of the Little Black Dress is still the focus on honoring those individuals and companies who are a part of the Goodwill mission of strengthening communities and empowering individuals and families through education\, training and job placement. And the shopping is great...!
X-ALT-DESC;FMTTYPE=text/html:<span style="color: rgb(69\, 69\, 69)\; font-family: Arial\, Helvetica\, sans-serif\; font-size: 13.3333px\;">Join Goodwill for our annual Little Black Dress Fashion Show and Boutique in South Bend. This year we have moved to a new\, larger venue to make more room for our wildly popular boutique. This event will take place on April 12 from 10 a.m.-3 p.m. at the Century Center\, 120 S. Saint Joseph Street in South Bend.&nbsp\;</span>\n<div style="color: rgb(69\, 69\, 69)\; font-family: Arial\, Helvetica\, sans-serif\; font-size: 13.3333px\;">\n<div>&nbsp\;</div>\n\n<div>The first&nbsp\;Little Black Dress&nbsp\;took place in South Bend in 2007 as a small gathering of Goodwill friends who enjoyed food\, fashion and fun!&nbsp\;&nbsp\;Most importantly\, the mission of Goodwill Industries was shared with all who attended the event.&nbsp\;What began as a modest event has grown into a bi-annual gala with a spring event held in South Bend\, Indiana and a fall show in Merrillville\, Indiana.&nbsp\;<span style="font-size: 10pt\;">At the heart of the Little Black Dress is still the focus on honoring those individuals and companies who are a part of the Goodwill mission of strengthening communities and empowering individuals and families through education\, training and job placement.&nbsp\;</span><span style="font-size: 10pt\;">And the shopping is great...!</span></div>\n</div>\n
LOCATION:The Century Center 120 S. Saint Joseph Street South Bend
UID:e.1949.3076
SEQUENCE:3
DTSTAMP:20260424T120011Z
URL:https://members.laportepartnership.com/events/details/little-black-dress-fashion-show-boutique-3076
END:VEVENT

END:VCALENDAR
