BEGIN:VCALENDAR
VERSION:2.0
PRODID:-//ChamberMaster//Event Calendar 2.0//EN
METHOD:PUBLISH
X-PUBLISHED-TTL:P3D
REFRESH-INTERVAL:P3D
CALSCALE:GREGORIAN
BEGIN:VEVENT
DTSTART:20170128T010000Z
DTEND:20170129T043000Z
X-MICROSOFT-CDO-ALLDAYEVENT:FALSE
SUMMARY:LIVE! at Bourbon Street Bistro with P.T. and the Cruisers
DESCRIPTION:Tell your friends to meet you after work at Bourbon Street Bistro.\n\n\n\nJoin us for LIVE blues Friday and Saturday night with our Bourbon Street House Band\, P.T. and The Cruisers. \n\n\n\nShowtimes are 7 PM and 9 PM.\n\n\n\nDoors open for dinner at 4 PM. Early arrival is highly recommended.\n\nThe tastes and sounds of New Orleans in La Porte\, Indiana.
X-ALT-DESC;FMTTYPE=text/html:<span style="color: rgb(75\, 79\, 86)\; font-family: Helvetica\, Arial\, sans-serif\; font-size: 14px\;">Tell your friends to meet you after work at Bourbon Street Bistro</span><span style="color: rgb(75\, 79\, 86)\; font-family: Helvetica\, Arial\, sans-serif\; font-size: 14px\;">.</span><br style="color: rgb(75\, 79\, 86)\; font-family: Helvetica\, Arial\, sans-serif\; font-size: 14px\;" />\n<br style="color: rgb(75\, 79\, 86)\; font-family: Helvetica\, Arial\, sans-serif\; font-size: 14px\;" />\n<span style="color: rgb(75\, 79\, 86)\; font-family: Helvetica\, Arial\, sans-serif\; font-size: 14px\;">Join us for LIVE blues Friday and Saturday night with our Bourbon Street House Band\, P.T. and The Cruisers.&nbsp\;</span><br style="color: rgb(75\, 79\, 86)\; font-family: Helvetica\, Arial\, sans-serif\; font-size: 14px\;" />\n<br style="color: rgb(75\, 79\, 86)\; font-family: Helvetica\, Arial\, sans-serif\; font-size: 14px\;" />\n<span style="color: rgb(75\, 79\, 86)\; font-family: Helvetica\, Arial\, sans-serif\; font-size: 14px\;">Showtimes are 7 PM and 9 PM.</span><br style="color: rgb(75\, 79\, 86)\; font-family: Helvetica\, Arial\, sans-serif\; font-size: 14px\;" />\n<br style="color: rgb(75\, 79\, 86)\; font-family: Helvetica\, Arial\, sans-serif\; font-size: 14px\;" />\n<span style="color: rgb(75\, 79\, 86)\; font-family: Helvetica\, Arial\, sans-serif\; font-size: 14px\;">Doors open for dinner at 4 PM. Early arrival is highly recommended.</span><br style="color: rgb(75\, 79\, 86)\; font-family: Helvetica\, Arial\, sans-serif\; font-size: 14px\;" />\n<span style="color: rgb(75\, 79\, 86)\; font-family: Helvetica\, Arial\, sans-serif\; font-size: 14px\;">The tastes and sounds of New Orleans in La Porte\, Indiana.</span>
LOCATION:Bourbon Street Bistro 701 Lincolnway
UID:e.1949.2706
SEQUENCE:3
DTSTAMP:20260425T154222Z
URL:https://members.laportepartnership.com/events/details/live-at-bourbon-street-bistro-with-p-t-and-the-cruisers-2706
END:VEVENT

END:VCALENDAR
