BEGIN:VCALENDAR
VERSION:2.0
PRODID:-//ChamberMaster//Event Calendar 2.0//EN
METHOD:PUBLISH
X-PUBLISHED-TTL:P3D
REFRESH-INTERVAL:P3D
CALSCALE:GREGORIAN
BEGIN:VEVENT
DTSTART:20180710T223000Z
DTEND:20180711T003000Z
X-MICROSOFT-CDO-ALLDAYEVENT:FALSE
SUMMARY:LMA- July 2018- Emergence of Collaborative Robots (Cobots) in Manufacturing
DESCRIPTION:Topic:       Purdue Manufacturing Extension Partnership services overview and the Emergence of Collaborative Robots (Cobots) in Manufacturing\n\n \n\nPresented by:  Chris Pearson\, Associate Director\, Client Services and Robert Goosen\, Associate Director - Engineering and Technology Services\n \n\nAbout the MEP National Network\n \n\nAs a NIST MEP approved Center\, Purdue MEP is the official representative of the MEP National Network in Indiana. \n\nThe MEP National Network is a unique public-private partnership that delivers comprehensive\, proven solutions to U.S. manufacturers\, fueling growth and advancing U.S. manufacturing.\n\nFocused on helping small and mid-sized manufacturers generate business results and thrive in today's technology-driven economy\, the MEP National Network comprises the National Institute of Standards and Technology's Manufacturing Extension Partnership (NIST MEP)\, 51 MEP Centers located in all 50 states and Puerto Rico\, and its 1\,300 trusted advisors and experts at nearly 600 MEP service locations\, providing any U.S. manufacture with access to resources they need to succeed.\n\nIn 2016\, the MEP National Network connected with 25\,445 manufactures\, leading to $9.3 billion in sales\, $1.4 billion in cost savings\, $3.5 billion in new client investments\, and helping to create and retain more than 86\,602 U.S. manufacturing jobs. \n\n \n\nFollowing the meeting Agenda and BBQ dinner all participants are invited to take a tour of the facility hosted by Dwyer's President\, Mark Fisher. He will cover some of our recent technological achievements in New Product Development.
X-ALT-DESC;FMTTYPE=text/html:<u><span style="color:black\;"><span style="font-family:calibri\,sans-serif\;">Topic:</span></span></u>&nbsp\;&nbsp\;&nbsp\;&nbsp\;&nbsp\;&nbsp\; <span style="color:#B1810B\;">Purdue Manufacturing Extension Partnership services overview and the Emergence of Collaborative Robots (Cobots) in Manufacturing</span><br />\n&nbsp\;<br />\n<u>Presented by</u>:&nbsp\; Chris Pearson\, <em>Associate Director\, Client Services </em>and Robert Goosen<em>\, </em><em>Associate Director - Engineering and Technology Services</em>\n<h1 style="margin-bottom:.0001pt\;background:white\;">&nbsp\;</h1>\n\n<h3 style="margin-top:0in\;line-height:25.2pt\;vertical-align:baseline\;"><u><span style="color:black\;"><span style="font-family:calibri\,sans-serif\;">About the MEP National Network</span></span></u></h3>\n&nbsp\;<br />\n<span style="border:none windowtext 1.0pt\;padding:0in\;"><span style="color:#333333\;"><span style="font-family:calibri\,sans-serif\;">As a NIST MEP approved Center\, Purdue MEP is the official representative of the MEP National Network in Indiana.&nbsp\;</span></span></span><br />\n<span style="border:none windowtext 1.0pt\;padding:0in\;"><span style="color:#333333\;"><span style="font-family:calibri\,sans-serif\;">The MEP National Network is a unique public-private partnership that delivers comprehensive\, proven solutions to U.S. manufacturers\, fueling growth and advancing U.S. manufacturing.</span></span></span><br />\n<span style="border:none windowtext 1.0pt\;padding:0in\;"><span style="color:#333333\;"><span style="font-family:calibri\,sans-serif\;">Focused on helping small and mid-sized manufacturers generate business results and thrive in today&#39\;s technology-driven economy\, the MEP National Network comprises the National Institute of Standards and Technology&#39\;s Manufacturing Extension Partnership (NIST MEP)\, 51 MEP Centers located in all 50 states and Puerto Rico\, and its 1\,300 trusted advisors and experts at nearly 600 MEP service locations\, providing any U.S. manufacture&nbsp\;with access to resources they need to succeed.</span></span></span><br />\n<span style="border:none windowtext 1.0pt\;padding:0in\;"><span style="color:#333333\;"><span style="font-family:calibri\,sans-serif\;">In 2016\, the MEP National Network connected with 25\,445 manufactures\, leading to $9.3 billion in sales\, $1.4 billion in cost savings\, $3.5 billion in new client investments\, and helping to create and retain more than 86\,602 U.S. manufacturing jobs.&nbsp\;</span></span></span><br />\n&nbsp\;<br />\n<span style="color:#1F497D\;">Following the meeting Agenda and BBQ dinner all participants are invited to take a tour of the facility hosted by Dwyer&rsquo\;s President\, Mark Fisher. He will cover some of our recent technological achievements in New Product Development.</span>
LOCATION:Dwyer Instruments 102 IN Highway 212 Michigan City
UID:e.1949.4183
SEQUENCE:3
DTSTAMP:20260424T072118Z
URL:https://members.laportepartnership.com/events/details/lma-july-2018-emergence-of-collaborative-robots-cobots-in-manufacturing-4183
END:VEVENT

END:VCALENDAR
