BEGIN:VCALENDAR
VERSION:2.0
PRODID:-//ChamberMaster//Event Calendar 2.0//EN
METHOD:PUBLISH
X-PUBLISHED-TTL:P3D
REFRESH-INTERVAL:P3D
CALSCALE:GREGORIAN
BEGIN:VEVENT
DTSTART:20180508T163000Z
DTEND:20180508T183000Z
X-MICROSOFT-CDO-ALLDAYEVENT:FALSE
SUMMARY:LPCAR- May General Membership Meeting & CE/2 Hours Fair Housing with instructor Rita Beaty
DESCRIPTION:May 8\, 2018 General Membership Meeting & CE/2 Hours Fair Housing with instructor Rita Beaty\n\n\n\nShort membership meeting followed by 2 CE hours in Fair Housing with Instructor Rita Beaty. CE is free to all LPCAR members/$15 for non-members.\n\n\n\n\nWhen\n\n \n\n\n\nMay 08\, 11:30 AM\n\n \n\n\n \n\nWhere\n\n \n\n\n\nPortofino Grill\n\n8605\, 3233 IN-39\, La Porte\, IN 46350\, USA
X-ALT-DESC;FMTTYPE=text/html:<div class="ev-title">\n<div class="ev-title__text ng-binding" ng-bind="$ctrl.eventTitle" role="header">May 8\, 2018 General Membership Meeting &amp\; CE/2 Hours Fair Housing with instructor Rita Beaty</div>\n</div>\n\n<div class="ev-description">\n<div class="ev-description__text ng-binding ng-scope" ng-bind="$ctrl.description" ng-if="$ctrl.description">Short membership meeting followed by 2 CE hours in Fair Housing with Instructor Rita Beaty. CE is free to all LPCAR members/$15 for non-members.</div>\n</div>\n\n<div class="ev-event-date-and-location ng-scope" ng-if="!$ctrl.settingsHelper.isCompactDateAndLocationVisible() &amp\;&amp\; ($ctrl.settingsHelper.isDateVisible() || $ctrl.settingsHelper.isLocationVisible())" ng-style="{ 'margin-bottom': $ctrl.eventParams.numbers.dateAndLocationMarginBottom }" style="margin-bottom: 54px\;"><ev-date class="ng-scope ng-isolate-scope" date-tbd="$ctrl.eventData.dateTbd" date-title="$ctrl.eventSettings.texts.time" divider-height="$ctrl.eventParams.numbers.horizontalDividerHeight" divider-width="$ctrl.eventParams.numbers.horizontalDividerWidth" end-date-iso="$ctrl.eventData.endDateIso" ng-if="$ctrl.settingsHelper.isDateVisible()" ng-style="{ 'margin-bottom': $ctrl.isMobile || $ctrl.settingsHelper.isHorizontalDateAndLocationVisible() ? 0 : $ctrl.eventParams.numbers.dateMarginBottom }" show-divider="$ctrl.settingsHelper.isDividersVisible() &amp\;&amp\; $ctrl.settingsHelper.isVerticalDateAndLocationVisible()" show-title="$ctrl.settingsHelper.isDateLabelVisible()" start-date-iso="$ctrl.eventData.startDateIso" style="margin-bottom: 42px\;" tbd-message="$ctrl.eventData.dateTbdMessage" time-zone-id="$ctrl.eventData.timeZoneId">\n<div class="ev-date">\n<div class="ev-date__title ng-binding ng-scope" ng-bind="$ctrl.dateTitle" ng-if="$ctrl.showTitle">When</div>\n<ev-divider class="ng-scope ng-isolate-scope" height="$ctrl.dividerHeight" ng-if="$ctrl.showDivider &amp\;&amp\; $ctrl.showTitle" width="$ctrl.dividerWidth">\n<div class="ev-divider" ng-style="{ width: $ctrl.width\, height: $ctrl.height }" style="width: 20px\; height: 1px\;">&nbsp\;</div>\n</ev-divider>\n\n<div aria-label="May 08\, 11:30 AM " class="ev-date__date-time" role="text">\n<div class="ev-date__date ng-binding ng-scope" ng-if="!$ctrl.tbd">May 08\, 11:30 AM</div>\n\n<div class="ev-date__time ng-binding ng-scope" ng-if="!$ctrl.tbd">&nbsp\;</div>\n</div>\n</div>\n</ev-date> <ev-location class="ng-scope ng-isolate-scope" divider-height="$ctrl.eventParams.numbers.horizontalDividerHeight" divider-width="$ctrl.eventParams.numbers.horizontalDividerWidth" location="$ctrl.eventData.location" location-tbd="$ctrl.eventData.locationTbd" location-title="$ctrl.eventSettings.texts.location" ng-if="$ctrl.settingsHelper.isLocationVisible()" ng-style="{ 'margin-bottom': $ctrl.settingsHelper.isHorizontalDateAndLocationVisible() ? 0 : $ctrl.eventParams.numbers.locationMarginBottom }" show-divider="$ctrl.settingsHelper.isDividersVisible() &amp\;&amp\; $ctrl.settingsHelper.isVerticalDateAndLocationVisible()" show-title="$ctrl.settingsHelper.isLocationLabelVisible()" style="margin-bottom: 54px\;" tbd-message="$ctrl.eventData.locationTbdMessage">\n<div class="ev-location">\n<div class="ev-location__title ng-binding ng-scope" ng-bind="$ctrl.locationTitle" ng-if="$ctrl.showTitle">Where</div>\n<ev-divider class="ng-scope ng-isolate-scope" height="$ctrl.dividerHeight" ng-if="$ctrl.showDivider &amp\;&amp\; $ctrl.showTitle" width="$ctrl.dividerWidth">\n<div class="ev-divider" ng-style="{ width: $ctrl.width\, height: $ctrl.height }" style="width: 20px\; height: 1px\;">&nbsp\;</div>\n</ev-divider>\n\n<div aria-label="Portofino Grill\, 8605\, 3233 IN-39\, La Porte\, IN 46350\, USA" class="ev-location__location" role="text">\n<div class="ev-location__location-venue ng-binding ng-scope" ng-bind="$ctrl.location.name" ng-if="!$ctrl.tbd &amp\;&amp\; $ctrl.location.name">Portofino Grill</div>\n\n<div class="ev-location__location-address ng-binding ng-scope" ng-bind="$ctrl.location.address" ng-if="!$ctrl.tbd">8605\, 3233 IN-39\, La Porte\, IN 46350\, USA</div>\n</div>\n</div>\n</ev-location></div>\n
LOCATION:Portofino Grille 3233 N. State Road 39\, La Porte
UID:e.1949.4144
SEQUENCE:3
DTSTAMP:20260424T115806Z
URL:https://members.laportepartnership.com/events/details/lpcar-may-general-membership-meeting-ce-2-hours-fair-housing-with-instructor-rita-beaty-4144
END:VEVENT

END:VCALENDAR
