BEGIN:VCALENDAR
VERSION:2.0
PRODID:-//ChamberMaster//Event Calendar 2.0//EN
METHOD:PUBLISH
X-PUBLISHED-TTL:P3D
REFRESH-INTERVAL:P3D
CALSCALE:GREGORIAN
BEGIN:VEVENT
DTSTART:20170913T150000Z
DTEND:20170913T190000Z
X-MICROSOFT-CDO-ALLDAYEVENT:FALSE
SUMMARY:Lunch\, Learn\, and Shoot
DESCRIPTION:Please join us on Wednesday\, September 13th for some lunch\, learning\, and shooting! We have paired up with Extreme Networks to discuss the importance of a strong and mobile friendly network in your organization.\n\nWe will begin at Comfort Suites in South Bend for lunch and presentations\, followed by shooting at Kodiak Range.\n\nFeel free to bring your own gun(s) to this event. Ammunition and rental guns will be provided.\n\nWe look forward to seeing you!
X-ALT-DESC;FMTTYPE=text/html:<div class="js-xd-read-more-toggle-view read-more__toggle-view">\n<div class="js-xd-read-more-contents l-mar-top-3">\n<p>Please join us on Wednesday\, September 13th for some lunch\, learning\, and shooting! We have paired up with Extreme Networks to discuss the importance of a strong and mobile friendly network in your organization.</p>\n\n<p>We will begin at Comfort Suites in South Bend for lunch and presentations\, followed by shooting at Kodiak Range.</p>\n\n<p>Feel free to bring your own gun(s) to this event. Ammunition and rental guns will be provided.</p>\n\n<p>We look forward to seeing you!</p>\n</div>\n</div>\n
LOCATION:Comfort Suites 60971 US 31 South South Bend
UID:e.1949.2852
SEQUENCE:3
DTSTAMP:20260425T002134Z
URL:https://members.laportepartnership.com/events/details/lunch-learn-and-shoot-2852
END:VEVENT

END:VCALENDAR
