BEGIN:VCALENDAR
VERSION:2.0
PRODID:-//ChamberMaster//Event Calendar 2.0//EN
METHOD:PUBLISH
X-PUBLISHED-TTL:P3D
REFRESH-INTERVAL:P3D
CALSCALE:GREGORIAN
BEGIN:VEVENT
DTSTART:20190603T164500Z
DTEND:20190603T164500Z
X-MICROSOFT-CDO-ALLDAYEVENT:FALSE
SUMMARY:Lunch with Lt. Governor Suzanne Crouch
DESCRIPTION:Please join us as the Rotary Club of La Porte welcomes Lt. Governor Suzanne Crouch to a lunch meeting on Monday\, June 3\, at the La Porte Civic Auditorium\, 1001 Ridge Street\, La Porte. Registration will begin at 11:30 a.m. with the program at 11:45 a.m. It is $10/person to attend.\n\n\n\nPlease register through our website or contact Lindsay Jongkind at the La Porte Economic Advancement Partnership at lindsayj@laportepartnership.com or 219.324.8584
X-ALT-DESC;FMTTYPE=text/html:Please join us as the Rotary Club of La Porte welcomes Lt. Governor Suzanne Crouch to a lunch meeting on Monday\, June 3\, at the La Porte Civic Auditorium\, 1001 Ridge Street\, La Porte. Registration will begin at 11:30 a.m. with the program at 11:45 a.m. It is $10/person to attend.<br />\n<br />\nPlease register through our website or contact Lindsay Jongkind at the La Porte Economic Advancement Partnership at lindsayj@laportepartnership.com or 219.324.8584
LOCATION:La Porte Civic Auditorium 1001 Ridge Street\, La Porte
UID:e.1949.4372
SEQUENCE:3
DTSTAMP:20260423T132939Z
URL:https://members.laportepartnership.com/events/details/lunch-with-lt-governor-suzanne-crouch-4372
END:VEVENT

END:VCALENDAR
