BEGIN:VCALENDAR
VERSION:2.0
PRODID:-//ChamberMaster//Event Calendar 2.0//EN
METHOD:PUBLISH
X-PUBLISHED-TTL:P3D
REFRESH-INTERVAL:P3D
CALSCALE:GREGORIAN
BEGIN:VEVENT
DTSTART;VALUE=DATE:20170210
DTEND;VALUE=DATE:20170220
TRANSP:TRANSPARENT
X-MICROSOFT-CDO-ALLDAYEVENT:TRUE
SUMMARY:Lund Sponsored In-House Boat Show presented by Huber's Marine
DESCRIPTION:Lund Sponsored In-House Boat Show presented by Huber's Marine\n\nFebruary 10th-19th\, 2017 at 1207 Pine Lake Avenue in La Porte\n\nGreat selection of Lunds to choose from- 27 Lunds in stock!\n\nFree parking and admission\, free food and beverages\, kids activities\, prize giveaways\, incentives to buy\, and rebates up to $2\,500!
X-ALT-DESC;FMTTYPE=text/html:Lund Sponsored In-House Boat Show presented by Huber&#39\;s Marine<br />\nFebruary 10th-19th\, 2017 at 1207 Pine Lake Avenue in La Porte<br />\nGreat selection of Lunds to choose from- 27 Lunds in stock!<br />\nFree parking and admission\, free food and beverages\, kids activities\, prize giveaways\, incentives to buy\, and rebates up to $2\,500!
LOCATION:Huber's Marine 1207 Pine Lake Avenue
UID:e.1949.2710
SEQUENCE:3
DTSTAMP:20260425T133735Z
URL:https://members.laportepartnership.com/events/details/lund-sponsored-in-house-boat-show-presented-by-huber-s-marine-2710
END:VEVENT

END:VCALENDAR
