BEGIN:VCALENDAR
VERSION:2.0
PRODID:-//ChamberMaster//Event Calendar 2.0//EN
METHOD:PUBLISH
X-PUBLISHED-TTL:P3D
REFRESH-INTERVAL:P3D
CALSCALE:GREGORIAN
BEGIN:VEVENT
DTSTART:20190825T200000Z
DTEND:20190825T230000Z
X-MICROSOFT-CDO-ALLDAYEVENT:FALSE
SUMMARY:Lyric Opera in the Gardens
DESCRIPTION:Join us for another wonderful performance of the upcoming Chicago Lyric Opera season! It will be an enchanting afternoon! Tickets on sale on Eventbrite\, our website or at the door on the day of the event. Advanced purchase recommended. $45 Regular Seating/$50 Premium Seating.
X-ALT-DESC;FMTTYPE=text/html:<p><span style="background-color:transparent\; color:rgb(0\, 0\, 0)\; font-family:times new roman\; font-size:12pt">Join us for another wonderful performance of the upcoming Chicago Lyric Opera season! It will be an enchanting afternoon! Tickets on sale on Eventbrite\, our website or at the door on the day of the event. Advanced purchase recommended. $45 Regular Seating/$50 Premium Seating.</span></p>\n
LOCATION:Friendship Botanic Gardens 2055 East US Highway 12 Michigan City\, IN 46360
UID:e.1949.4326
SEQUENCE:3
DTSTAMP:20260423T095457Z
URL:https://members.laportepartnership.com/events/details/lyric-opera-in-the-gardens-4326
END:VEVENT

END:VCALENDAR
