BEGIN:VCALENDAR
VERSION:2.0
PRODID:-//ChamberMaster//Event Calendar 2.0//EN
METHOD:PUBLISH
X-PUBLISHED-TTL:P3D
REFRESH-INTERVAL:P3D
CALSCALE:GREGORIAN
BEGIN:VEVENT
DTSTART:20170914T130000Z
DTEND:20170914T190000Z
X-MICROSOFT-CDO-ALLDAYEVENT:FALSE
SUMMARY:Made in La Porte County 2017
DESCRIPTION:The Economic Development Corporation Michigan City (EDCMC) and the Greater La Porte Economic Development Corporation (GLEDC) will again be hosting Made in La Porte County on Thursday\, September 14\, 2017 at 4295 Ohio St. in Michigan City. This county-wide event will bring together\, in one location\, numerous La Porte County companies who will be showcasing the products they manufacture and/or distribute from here. The event will provide an opportunity for local citizens and visitors to view the array of interesting products\, large and small\, made right here in La Porte County. Manufacturers & Distributors who are interested in having a booth can contact Katie Eaton for details. keaton@edcmc.com
X-ALT-DESC;FMTTYPE=text/html:<span style="color: rgb(75\, 79\, 86)\; font-family: Helvetica\, Arial\, sans-serif\; font-size: 14px\;">The Economic Development Corporation Michigan City (EDCMC) and the Greater La Porte Economic Development Corporation (GLEDC) will again be hosting Made in La Porte County on Thursday\, September 14\, 2017 at 4295 Ohio St. in Michigan City. This county-wide event will bring together\, in one location\, numerous La Porte County companies who will be showcasing the products they manufacture and/or distribute from here. The event will provide an opportunity for local citizens and visitors to view the array of interesting products\, large and small\, made right here in La Porte County. Manufacturers &amp\; Distributors who are interested in having a booth can contact Katie Eaton for details. keaton@edcmc.com</span>
LOCATION:4295 Ohio Street Michigan City
UID:e.1949.2873
SEQUENCE:3
DTSTAMP:20260425T002245Z
URL:https://members.laportepartnership.com/events/details/made-in-la-porte-county-2017-2873
END:VEVENT

END:VCALENDAR
