BEGIN:VCALENDAR
VERSION:2.0
PRODID:-//ChamberMaster//Event Calendar 2.0//EN
METHOD:PUBLISH
X-PUBLISHED-TTL:P3D
REFRESH-INTERVAL:P3D
CALSCALE:GREGORIAN
BEGIN:VEVENT
DTSTART:20191004T140000Z
DTEND:20191004T200000Z
X-MICROSOFT-CDO-ALLDAYEVENT:FALSE
SUMMARY:Made in La Porte County
DESCRIPTION:This special event allows local firms to showcase their products that are\n\nproduced\, assembled and/or distributed from right here in La Porte County.\n\nIt provides an opportunity for local citizens and visitors to view the interesting\n\narray of products first hand\, all in one location. The event will also provide an\n\nopportunity for the local firms to interface with one another on a "business to business" basis. While this is not a career or job fair\, another great feature of the event will be an opportunity for high school and college students throughout the County to get acquainted with the products and associated processes\, training\, education and potential employment opportunities as they prepare for their futures. This type of exposure can ultimately help build your future workforce. There is NO cost to participate!!!!\nWatch for more information!\n\nOr call and ask for applications and information (219) 324-8584
X-ALT-DESC;FMTTYPE=text/html:<span style="font-size:12pt\;">This special event allows local firms to showcase their products that are</span><br />\n<span style="font-size:12pt\;">produced\, assembled and/or distributed from right here in La Porte County.</span><br />\n<span style="font-size:12pt\;">It provides an opportunity for local citizens and visitors to view the interesting</span><br />\n<span style="font-size:12pt\;">array of products first hand\, all in one location. The event will also provide an</span><br />\n<span style="font-size:12pt\;">opportunity for the local firms to interface with one another on a &ldquo\;business to business&rdquo\;&nbsp\;</span><span style="font-size:12pt\;">basis. While this is not a career or job fair\, another great feature of the event will be an&nbsp\;</span><span style="font-size:12pt\;">opportunity for high school and college students throughout the County to get acquainted&nbsp\;</span><span style="font-size:12pt\;">with the products and associated processes\, training\, education and potential employment&nbsp\;</span><span style="font-size:12pt\;">opportunities as they prepare for their futures. This type of exposure can ultimately help&nbsp\;</span><span style="font-size:12pt\;">build your future workforce.&nbsp\;<strong>There is NO cost to participate!!!!</strong></span>\n<div style="text-align: center\;"><strong style="text-align: center\;"><span style="font-size:16pt\;">Watch for more information!</span></strong></div>\n\n<div style="text-align: center\;"><strong><span style="font-size:12pt\;">Or call and ask for applications and information (219) 324-8584</span></strong></div>\n
LOCATION:
UID:e.1949.4380
SEQUENCE:3
DTSTAMP:20260423T080658Z
URL:https://members.laportepartnership.com/events/details/made-in-la-porte-county-4380
END:VEVENT

END:VCALENDAR
