BEGIN:VCALENDAR
VERSION:2.0
PRODID:-//ChamberMaster//Event Calendar 2.0//EN
METHOD:PUBLISH
X-PUBLISHED-TTL:P3D
REFRESH-INTERVAL:P3D
CALSCALE:GREGORIAN
BEGIN:VEVENT
DTSTART:20191003T213000Z
DTEND:20191003T233000Z
X-MICROSOFT-CDO-ALLDAYEVENT:FALSE
SUMMARY:Made in La Porte County Young Professionals Reception
DESCRIPTION:Join us on October 3rd from 4:30 p.m. to 6:30 p.m. for a young professionals reception to kick off the Made in La Porte County event. Network with business professionals and young members of the community while enjoying provided hors d'oeuvres. Also learn more about the La Porte Jaycees and Lakefront Career Network to determine if they are the right fit for you.
X-ALT-DESC;FMTTYPE=text/html:Join us on October 3rd from 4:30 p.m. to 6:30 p.m. for a young professionals reception to kick off the Made in La Porte County event. Network with business professionals and young members of the community while enjoying provided hors d&#39\;oeuvres. Also learn more about the La Porte Jaycees and Lakefront Career Network to determine if they are the right fit for you.
LOCATION:1900 Happiness Way La Porte
UID:e.1949.4542
SEQUENCE:3
DTSTAMP:20260423T063916Z
URL:https://members.laportepartnership.com/events/details/made-in-la-porte-county-young-professionals-reception-4542
END:VEVENT

END:VCALENDAR
