BEGIN:VCALENDAR
VERSION:2.0
PRODID:-//ChamberMaster//Event Calendar 2.0//EN
METHOD:PUBLISH
X-PUBLISHED-TTL:P3D
REFRESH-INTERVAL:P3D
CALSCALE:GREGORIAN
BEGIN:VEVENT
DTSTART:20161015T140000Z
DTEND:20161015T143000Z
X-MICROSOFT-CDO-ALLDAYEVENT:FALSE
SUMMARY:Mama T's Diner Ribbon Cutting
DESCRIPTION:Mama T's Diner will host a Grand Opening & Ribbon Cutting on Saturday\, October 15 at 9:00 a.m. This new restaurant is located at 607 Lincolnway in Downtown La Porte. The ribbon cutting will be administered by the Greater La Porte Chamber of Commerce.\n\n\n\nJoin in and welcome this new business to the downtown! Mama T's offers great breakfast and lunch options in an inviting atmosphere with freshly made specials daily. The business will also offer fresh baked goods and coffee to go. A portion of the money given to the business during the opening weekend will be given to the Deserving Children's Shopping Tour and another charity.\n\n\n\nFor more information about Mama T's Diner\, visit their Facebook page.
X-ALT-DESC;FMTTYPE=text/html:<strong><span style="color:black\;"><span style="font-family:arial\,sans-serif\;"><span style="font-size:10.0pt\;">Mama T&rsquo\;s Diner </span></span></span></strong><span style="color:black\;"><span style="font-family:arial\,sans-serif\;"><span style="font-size:10.0pt\;">will host a Grand Opening &amp\; Ribbon Cutting on Saturday\, October 15 at 9:00 a.m. This new restaurant is located at 607 Lincolnway in Downtown La Porte. The ribbon cutting will be administered by the Greater La Porte Chamber of Commerce.</span></span></span><br />\n<br />\n<span style="color:black\;"><span style="font-family:arial\,sans-serif\;"><span style="font-size:10.0pt\;">Join in and welcome this new business to the downtown! Mama T&rsquo\;s offers great breakfast and lunch options in an inviting atmosphere with freshly made specials daily. The business will also offer fresh baked goods and coffee to go. A portion of the money given to the business during the opening weekend will be given to the Deserving Children&rsquo\;s Shopping Tour and another charity.</span></span></span><br />\n<br />\n<span style="color:black\;"><span style="font-family:arial\,sans-serif\;"><span style="font-size:10.0pt\;">For more information about Mama T&rsquo\;s Diner\, visit their Facebook page.</span></span></span>
LOCATION:Mama T's Diner 607 Lincolnway La Porte
UID:e.1949.2643
SEQUENCE:3
DTSTAMP:20260425T223328Z
URL:https://members.laportepartnership.com/events/details/mama-t-s-diner-ribbon-cutting-2643
END:VEVENT

END:VCALENDAR
