BEGIN:VCALENDAR
VERSION:2.0
PRODID:-//ChamberMaster//Event Calendar 2.0//EN
METHOD:PUBLISH
X-PUBLISHED-TTL:P3D
REFRESH-INTERVAL:P3D
CALSCALE:GREGORIAN
BEGIN:VEVENT
DTSTART:20170311T230000Z
DTEND:20170312T030000Z
X-MICROSOFT-CDO-ALLDAYEVENT:FALSE
SUMMARY:March Mayham Trivia Competition- DeCamp's Band of Brothers
DESCRIPTION:Trivia Competition\n\n(Don't worry\, they're not all sports questions.)\n\nDJ with Dancing to follow\n\nSaturday\, March 11\n\nCivic Auditorium\n\n\n\nBrought to you by DeCamp's Band of Brothers Foundation.\n\nProceeds to benefit the Clarke Park Renovation Project.\n\n\n\nDoors open at 5 p.m.\, trivia competition begins at 6 p.m.\, DJ begins at 8 p.m.\n\n$100 per table (up to 10 persons) in advance or $5 per person after 8 p.m. at door.\n\nPurchase tables at Civic Auditorium Ticket Office or by making your donation on-line at www.uflc.net/funds/contribute-online/decamps-band-of-brothers-fund.\n\n\n\nCash Bar/Food available for purchase\n\nRaffles/Games/Prizes\n\nWear you favorite sports team attire!\n\nAwards for best decorated team table/best dressed team!\n\nKids Welcome
X-ALT-DESC;FMTTYPE=text/html:Trivia Competition<br />\n(Don&rsquo\;t worry\, they&rsquo\;re not all sports questions.)<br />\nDJ with Dancing to follow<br />\nSaturday\, March 11<br />\nCivic Auditorium<br />\n<br />\nBrought to you by DeCamp&rsquo\;s Band of Brothers Foundation.<br />\nProceeds to benefit the Clarke Park Renovation Project.<br />\n<br />\nDoors open at 5 p.m.\, trivia competition begins at 6 p.m.\, DJ begins at 8 p.m.<br />\n$100 per table (up to 10 persons) in advance or $5 per person after 8 p.m. at door.<br />\nPurchase tables at Civic Auditorium Ticket Office or by making your donation on-line at www.uflc.net/funds/contribute-online/decamps-band-of-brothers-fund.<br />\n<br />\nCash Bar/Food available for purchase<br />\nRaffles/Games/Prizes<br />\nWear you favorite sports team attire!<br />\nAwards for best decorated team table/best dressed team!<br />\nKids Welcome
LOCATION:La Porte Civic Auditorium 1001 Ridge Street La Porte
UID:e.1949.2718
SEQUENCE:3
DTSTAMP:20260425T114949Z
URL:https://members.laportepartnership.com/events/details/march-mayham-trivia-competition-decamp-s-band-of-brothers-2718
END:VEVENT

END:VCALENDAR
