BEGIN:VCALENDAR
VERSION:2.0
PRODID:-//ChamberMaster//Event Calendar 2.0//EN
METHOD:PUBLISH
X-PUBLISHED-TTL:P3D
REFRESH-INTERVAL:P3D
CALSCALE:GREGORIAN
BEGIN:VEVENT
DTSTART:20170226T010000Z
DTEND:20170226T033000Z
X-MICROSOFT-CDO-ALLDAYEVENT:FALSE
SUMMARY:Mardi Gras Murder Mystery at Bourbon Street Bistro
DESCRIPTION:There has been a murder at the Mardi Gras dinner and everyone is a suspect. Can you unmask the culprit before the killer strikes again?\n\n\n\nBring your family and friends for an exciting interactive experience while you dine on authentic Louisiana-style cuisine. \n\n\n\nThe Murder Mystery is hosted upstairs in the Grand Room\n\nof our unique Victorian manor from 7:00 pm - 9:00 pm.\n\n\n\nTickets are $60 per person and include:\n\n* An appetizer\n\n* (2) Choices of entrees\n\n* Dessert\n\n* Gratuity\n\n\n\nAfter you crack the case\, come down to the Bistro to enjoy live music provided by the Bourbon Street Bistro House Blues Band.\n\n\n\nLate arrival not permitted. Tickets are non-refundable.
X-ALT-DESC;FMTTYPE=text/html:<span style="color: rgb(75\, 79\, 86)\; font-family: Helvetica\, Arial\, sans-serif\; font-size: 14px\;">There has been a murder at the Mardi Gras dinner and everyone is a suspect. Can you unmask the culprit before the killer strikes again?</span><br style="color: rgb(75\, 79\, 86)\; font-family: Helvetica\, Arial\, sans-serif\; font-size: 14px\;" />\n<br style="color: rgb(75\, 79\, 86)\; font-family: Helvetica\, Arial\, sans-serif\; font-size: 14px\;" />\n<span style="color: rgb(75\, 79\, 86)\; font-family: Helvetica\, Arial\, sans-serif\; font-size: 14px\;">Bring your family and friends for an exciting interactive experience while you dine on authentic Louisiana-style cuisine.&nbsp\;</span><br style="color: rgb(75\, 79\, 86)\; font-family: Helvetica\, Arial\, sans-serif\; font-size: 14px\;" />\n<br style="color: rgb(75\, 79\, 86)\; font-family: Helvetica\, Arial\, sans-serif\; font-size: 14px\;" />\n<span style="color: rgb(75\, 79\, 86)\; font-family: Helvetica\, Arial\, sans-serif\; font-size: 14px\;">The Murder Mystery is hosted upstairs in the Grand Room</span><br style="color: rgb(75\, 79\, 86)\; font-family: Helvetica\, Arial\, sans-serif\; font-size: 14px\;" />\n<span style="color: rgb(75\, 79\, 86)\; font-family: Helvetica\, Arial\, sans-serif\; font-size: 14px\;">of our unique Victorian manor from 7:00 pm - 9:00 pm.</span><br style="color: rgb(75\, 79\, 86)\; font-family: Helvetica\, Arial\, sans-serif\; font-size: 14px\;" />\n<br style="color: rgb(75\, 79\, 86)\; font-family: Helvetica\, Arial\, sans-serif\; font-size: 14px\;" />\n<span style="color: rgb(75\, 79\, 86)\; font-family: Helvetica\, Arial\, sans-serif\; font-size: 14px\;">Tickets are $60 per person and include:</span><br style="color: rgb(75\, 79\, 86)\; font-family: Helvetica\, Arial\, sans-serif\; font-size: 14px\;" />\n<span style="color: rgb(75\, 79\, 86)\; font-family: Helvetica\, Arial\, sans-serif\; font-size: 14px\;">* An appetizer</span><br style="color: rgb(75\, 79\, 86)\; font-family: Helvetica\, Arial\, sans-serif\; font-size: 14px\;" />\n<span style="color: rgb(75\, 79\, 86)\; font-family: Helvetica\, Arial\, sans-serif\; font-size: 14px\;">* (2) Choices of entrees</span><br style="color: rgb(75\, 79\, 86)\; font-family: Helvetica\, Arial\, sans-serif\; font-size: 14px\;" />\n<span style="color: rgb(75\, 79\, 86)\; font-family: Helvetica\, Arial\, sans-serif\; font-size: 14px\;">* Dessert</span><br style="color: rgb(75\, 79\, 86)\; font-family: Helvetica\, Arial\, sans-serif\; font-size: 14px\;" />\n<span style="color: rgb(75\, 79\, 86)\; font-family: Helvetica\, Arial\, sans-serif\; font-size: 14px\;">* Gratuity</span><br />\n<br />\n<span class="text_exposed_show" style="display: inline\; color: rgb(75\, 79\, 86)\; font-family: Helvetica\, Arial\, sans-serif\; font-size: 14px\;">After you crack the case\, come down to the Bistro to enjoy live music provided by the Bourbon Street Bistro House Blues Band.<br />\n<br />\nLate arrival not permitted. Tickets are non-refundable.</span>
LOCATION:Bourbon Street Bistro 701 Lincolnway
UID:e.1949.2727
SEQUENCE:3
DTSTAMP:20260425T133747Z
URL:https://members.laportepartnership.com/events/details/mardi-gras-murder-mystery-at-bourbon-street-bistro-2727
END:VEVENT

END:VCALENDAR
