BEGIN:VCALENDAR
VERSION:2.0
PRODID:-//ChamberMaster//Event Calendar 2.0//EN
METHOD:PUBLISH
X-PUBLISHED-TTL:P3D
REFRESH-INTERVAL:P3D
CALSCALE:GREGORIAN
BEGIN:VEVENT
DTSTART:20171125T190000Z
DTEND:20171125T210000Z
X-MICROSOFT-CDO-ALLDAYEVENT:FALSE
SUMMARY:Masons' Display at La Porte County Historical Society Museum
DESCRIPTION:On Saturday November 25th from 1:00 pm to 3:00 pm\, the Free & Accepted Masons of Excelsior #41 will present a "History of Freemasonry in La Porte\, Indiana" in the meeting room of the La Porte County Historical Society Museum.  There will be a presentation on the history of the lodge given right at \n\n1:00 PM. The Freemasons have been active in La Porte since 1838.  Masons will be on hand to answer questions about the fraternity and the artifacts on display dating as far back as the mid-19th century. There is no additional fee for the program and display\; however\, regular museum admission will be charged. \n\n \n\n    The La Porte County Historical Society Museum is located at 2405 Indiana Ave. La Porte\, IN 46350. The museum is handicapped accessible. For more information\, call 219-324-6767 or email: info@laportecountyhistory.org.
X-ALT-DESC;FMTTYPE=text/html:<p><span style="font-size:14.0pt\;color:black">On Saturday November 25th from 1:00 pm to 3:00 pm\,&nbsp\;the Free&nbsp\;&amp\; Accepted Masons of Excelsior #41 will&nbsp\;present a &quot\;History of Freemasonry in La Porte\, Indiana&quot\; in the meeting room of the La Porte County Historical Society Museum.&nbsp\; There will be a presentation on the history of the lodge given right at <o:p></o:p></span></p>\n\n<p><span style="font-size:14.0pt\;color:black">1:00 PM. The Freemasons have been active in La Porte since 1838.&nbsp\; Masons will be on hand to answer questions about the fraternity and&nbsp\;the&nbsp\;artifacts on display dating&nbsp\;as far back as&nbsp\;the&nbsp\;mid-19th century.&nbsp\;There is no additional fee for the program and display\; however\, regular museum admission will be charged. <o:p></o:p></span></p>\n\n<p><span style="font-size:14.0pt\;color:black"><o:p>&nbsp\;</o:p></span></p>\n\n<p><span style="font-size:14.0pt\;color:black">&nbsp\;&nbsp\;&nbsp\; The La Porte County Historical Society Museum is located at 2405 Indiana Ave. La Porte\, IN 46350. The museum is handicapped accessible. For more information\, call 219-324-6767 or email: </span><a href="mailto:info@laportecountyhistory.org"><span style="font-size:14.0pt">info@laportecountyhistory.org</span></a><span style="font-size:14.0pt\;color:black">. <o:p></o:p></span></p>\n\n<p><span style="font-size:14.0pt\;color:black">&nbsp\;<o:p></o:p></span></p>\n
LOCATION:La Porte County Historical Society Museum 2405 Indiana Avenue La Porte
UID:e.1949.2957
SEQUENCE:3
DTSTAMP:20260424T213601Z
URL:https://members.laportepartnership.com/events/details/masons-display-at-la-porte-county-historical-society-museum-2957
END:VEVENT

END:VCALENDAR
