BEGIN:VCALENDAR
VERSION:2.0
PRODID:-//ChamberMaster//Event Calendar 2.0//EN
METHOD:PUBLISH
X-PUBLISHED-TTL:P3D
REFRESH-INTERVAL:P3D
CALSCALE:GREGORIAN
BEGIN:VEVENT
DTSTART:20200114T133000Z
DTEND:20200114T233000Z
X-MICROSOFT-CDO-ALLDAYEVENT:FALSE
SUMMARY:Maximizing Your Membership - January 2020
DESCRIPTION:In this free\, short seminar open to new and current members\, the LEAP staff will provide the tools to help attendees get the most out of their LEAP membership through a PowerPoint presentation and handouts. There will also be an exciting announcement about a new feature we are adding!\n\n\n\nTo register\, use the member login portal\, call 219.324.8584 or email lindsayj@laportepartnership.com.\n\n\n\nThere will be two sessions available:\n\nJanuary 14\, 7:30 a.m. to 8:30 a.m.\n\nJanuary 14\, 4:30 p.m. to 5:30 p.m.
X-ALT-DESC;FMTTYPE=text/html:<span style="color: rgb(29\, 33\, 41)\; font-family: Helvetica\, Arial\, sans-serif\; font-size: 14px\; white-space: pre-wrap\; background-color: rgb(255\, 255\, 255)\;">In this free\, short seminar open to new and current members\, the LEAP staff will provide the tools to help attendees get the most out of their LEAP membership through a PowerPoint presentation and handouts. There will also be an exciting announcement about a new feature we are adding!</span><br style="color: rgb(29\, 33\, 41)\; font-family: Helvetica\, Arial\, sans-serif\; font-size: 14px\; white-space: pre-wrap\; background-color: rgb(255\, 255\, 255)\;" />\n<br style="color: rgb(29\, 33\, 41)\; font-family: Helvetica\, Arial\, sans-serif\; font-size: 14px\; white-space: pre-wrap\; background-color: rgb(255\, 255\, 255)\;" />\n<span style="color: rgb(29\, 33\, 41)\; font-family: Helvetica\, Arial\, sans-serif\; font-size: 14px\; white-space: pre-wrap\; background-color: rgb(255\, 255\, 255)\;">To register\, use the member login portal\, call 219.324.8584 or email lindsayj@laportepartnership.com.</span><br style="color: rgb(29\, 33\, 41)\; font-family: Helvetica\, Arial\, sans-serif\; font-size: 14px\; white-space: pre-wrap\; background-color: rgb(255\, 255\, 255)\;" />\n<br style="color: rgb(29\, 33\, 41)\; font-family: Helvetica\, Arial\, sans-serif\; font-size: 14px\; white-space: pre-wrap\; background-color: rgb(255\, 255\, 255)\;" />\n<span style="color: rgb(29\, 33\, 41)\; font-family: Helvetica\, Arial\, sans-serif\; font-size: 14px\; white-space: pre-wrap\; background-color: rgb(255\, 255\, 255)\;">There will be two sessions available:</span><br style="color: rgb(29\, 33\, 41)\; font-family: Helvetica\, Arial\, sans-serif\; font-size: 14px\; white-space: pre-wrap\; background-color: rgb(255\, 255\, 255)\;" />\n<span style="color: rgb(29\, 33\, 41)\; font-family: Helvetica\, Arial\, sans-serif\; font-size: 14px\; white-space: pre-wrap\; background-color: rgb(255\, 255\, 255)\;">January 14\, 7:30 a.m. to 8:30 a.m.</span><br style="color: rgb(29\, 33\, 41)\; font-family: Helvetica\, Arial\, sans-serif\; font-size: 14px\; white-space: pre-wrap\; background-color: rgb(255\, 255\, 255)\;" />\n<span style="color: rgb(29\, 33\, 41)\; font-family: Helvetica\, Arial\, sans-serif\; font-size: 14px\; white-space: pre-wrap\; background-color: rgb(255\, 255\, 255)\;">January 14\, 4:30 p.m. to 5:30 p.m.</span>
LOCATION:La Porte Economic Advancement Partnership 809 Washington Street\, La Porte
UID:e.1949.4557
SEQUENCE:3
DTSTAMP:20260423T005727Z
URL:https://members.laportepartnership.com/events/details/maximizing-your-membership-january-2020-4557
END:VEVENT

END:VCALENDAR
