BEGIN:VCALENDAR
VERSION:2.0
PRODID:-//ChamberMaster//Event Calendar 2.0//EN
METHOD:PUBLISH
X-PUBLISHED-TTL:P3D
REFRESH-INTERVAL:P3D
CALSCALE:GREGORIAN
BEGIN:VEVENT
DTSTART:20180515T161500Z
DTEND:20180515T180000Z
X-MICROSOFT-CDO-ALLDAYEVENT:FALSE
SUMMARY:May Chamber Luncheon- Sponsored by First Merchants Bank
DESCRIPTION:The Greater La Porte Chamber of Commerce will host a seminar luncheon focusing on Payments Fraud & Prevention Tools on Tuesday\, May 15 at T-Bones Pier 11\, located at 1110 Lakeside Street in La Porte. Registration will begin at 11:15 a.m.\, and the program will begin at 11:30 a.m. This seminar is sponsored & presented by First Merchants Bank.\n\n\n\nFirst Merchants Bank representatives will provide information about payments fraud and pass along some tips and tricks that businesses can use to prevent fraud. First Merchants Bank is focused on building deep\, lifelong client relationships and providing maximum shareholder value. They provide an environment where customers can bank with their neighbors\, realizing that our business begins and ends with people.\n\n\n\nTo learn more about First Merchants Bank\, visit www.firstmerchants.com. To register for this seminar or for more information about the Greater La Porte Chamber of Commerce\, call 219.362.3178 or visit www.lpchamber.com.
X-ALT-DESC;FMTTYPE=text/html:<span style="font-size: 11pt\; line-height: 115%\; font-family: Georgia\, serif\;">The Greater La Porte Chamber of Commerce will host a seminar luncheon focusing on Payments Fraud &amp\; Prevention Tools on Tuesday\, May 15 at&nbsp\;<span data-scayt-lang="en_US" data-scayt-word="Portofino" style="background-position-x:\n52%\;background-position-y:100%"><span class="scayt-misspell-word">T-Bones Pier 11</span>\, located at 1110 Lakeside Street in La Porte. Registration will begin at 11:15 a.m.\, and the program will begin at 11:30 a.m. This seminar is sponsored &amp\; presented by First Merchants Bank.</span></span><br />\n<br />\n<span style="font-size: 11pt\; line-height: 115%\; font-family: Georgia\, serif\;">First Merchants Bank representatives will provide information about payments fraud and pass along some tips and tricks that businesses can use to prevent fraud. First Merchants Bank is focused on building deep\, lifelong client relationships and providing maximum shareholder value. They provide an environment where customers can bank with their neighbors\, realizing that our business begins and ends with people.<br />\n<br />\n<span style="font-size: 11pt\; line-height: 115%\;">To learn more about First Merchants Bank\, visit www.firstmerchants.com. To register for this seminar or for more information about the Greater La Porte Chamber of Commerce\, call 219.362.3178 or visit www.lpchamber.com.</span></span>
LOCATION:T-Bones Pier 11 1110 Lakeside Street La Porte
UID:e.1949.4102
SEQUENCE:3
DTSTAMP:20260424T103626Z
URL:https://members.laportepartnership.com/events/details/may-chamber-luncheon-sponsored-by-first-merchants-bank-4102
END:VEVENT

END:VCALENDAR
