BEGIN:VCALENDAR
VERSION:2.0
PRODID:-//ChamberMaster//Event Calendar 2.0//EN
METHOD:PUBLISH
X-PUBLISHED-TTL:P3D
REFRESH-INTERVAL:P3D
CALSCALE:GREGORIAN
BEGIN:VEVENT
DTSTART:20180506T120000Z
DTEND:20180506T180000Z
X-MICROSOFT-CDO-ALLDAYEVENT:FALSE
SUMMARY:McVay's 14th Annual Pancake Breakfast
DESCRIPTION:McVay's Relay for Life 14th Annual Pancake Breakfast: Featuring biscuits and gravy\, sausage\, eggs\, milk\, juice\, and coffee Team Royals will host a silent auction as well. Adults $6.00 ($7.00 at the door)\, Children 3-10 $3.00 ($4.00 at the door)\, under 3 free. For advance ticket sales call: June Lenig 219-608-6032
X-ALT-DESC;FMTTYPE=text/html:McVay&#39\;s Relay for Life 14th Annual Pancake Breakfast: Featuring biscuits and gravy\, sausage\, eggs\, milk\, juice\, and coffee Team Royals will host a silent auction as well. Adults $6.00 ($7.00 at the door)\, Children 3-10 $3.00 ($4.00 at the door)\, under 3 free. For advance ticket sales call: June Lenig 219-608-6032
LOCATION:LaPorte County Fairgrounds
UID:e.1949.4109
SEQUENCE:3
DTSTAMP:20260424T115410Z
URL:https://members.laportepartnership.com/events/details/mcvay-s-14th-annual-pancake-breakfast-4109
END:VEVENT

END:VCALENDAR
