BEGIN:VCALENDAR
VERSION:2.0
PRODID:-//ChamberMaster//Event Calendar 2.0//EN
METHOD:PUBLISH
X-PUBLISHED-TTL:P3D
REFRESH-INTERVAL:P3D
CALSCALE:GREGORIAN
BEGIN:VEVENT
DTSTART:20171213T210000Z
DTEND:20171213T230000Z
X-MICROSOFT-CDO-ALLDAYEVENT:FALSE
SUMMARY:Member Appreciation/Holiday Party!
DESCRIPTION:The La Porte Chamber of Commerce appreciates its members! Let us celebrate you as members and join us at our Membership Appreciation Party at the Chamber Office\, 803 Washington Street in La Porte. This event will take place on December 13 from 3:00 p.m.-5:00 p.m. Join us for light refreshments & networking. We hope to see you on the 13th!
X-ALT-DESC;FMTTYPE=text/html:The La Porte Chamber of Commerce appreciates its members! Let us celebrate you as members and join us at our Membership Appreciation Party at the Chamber Office\, 803 Washington Street in La&nbsp\;Porte. This event will take place on December 13 from 3:00 p.m.-5:00 p.m. Join us for light refreshments &amp\; networking. We hope to see you on the 13th!
LOCATION:Chamber Office 803 Washington Street La Porte
UID:e.1949.2967
SEQUENCE:3
DTSTAMP:20260424T212936Z
URL:https://members.laportepartnership.com/events/details/member-appreciation-holiday-party-2967
END:VEVENT

END:VCALENDAR
