BEGIN:VCALENDAR
VERSION:2.0
PRODID:-//ChamberMaster//Event Calendar 2.0//EN
METHOD:PUBLISH
X-PUBLISHED-TTL:P3D
REFRESH-INTERVAL:P3D
CALSCALE:GREGORIAN
BEGIN:VEVENT
DTSTART:20171025T130000Z
DTEND:20171025T160000Z
X-MICROSOFT-CDO-ALLDAYEVENT:FALSE
SUMMARY:Mental Health in the Workplace- Risk & Responsibility Seminar Series
DESCRIPTION:You're Invited! Mental Health in the Workplace- Risk and Responsibility Seminar Series: Indiana- A State of Crisis\n\n\n\nMichiana SHRM & New Avenues Mental Health and Wellness Advisory Committee would like to extend an invitation to attend our upcoming breakfast training series. The first event of the three part series focuses on the growing drug epidemic in Indiana and how to make sure you and your company are prepared.\n\n\n\nPart one presentation topics & speakers include:\n\nEducation & Awareness- Paul Strabavy\, Office for Saint Joseph County Drug Investigation Unit\n\nAre Your Drug Testing Policies Going Up in Smoke?- Mike Palmer\, Attorney at Barnes & Thornburg\n\nReasonable Suspicion- LouAnn Dobbins from New Avenues\n\n\n\nThe cost of training and breakfast is $10.00 per attendee. You can register online at: https://www.cvent.com/events/mental-health-in-the-workplace-risk-responsibility-series-indiana-a-state-of-crisis/registration-b8db74602b9c4a148190b83bda83211c.aspx\n\nor pay by check at the door. Registration end October 23\, 2017 at 5:00 p.m. & checks must be made out to Michiana SHRM\n\n\n\nWednesday October 25th\, 2017 from 8:00 a.m.-11:00 a.m.\n\nWindsor Park Conference Center\, 4020 Edison Lakes Parkway\, Mishawaka\, IN 46545
X-ALT-DESC;FMTTYPE=text/html:You&#39\;re Invited! Mental Health in the Workplace- Risk and Responsibility Seminar Series: Indiana- A State of Crisis<br />\n<br />\nMichiana SHRM&nbsp\;&amp\; New Avenues Mental Health and Wellness Advisory Committee would like to extend an invitation to attend our upcoming breakfast training series. The first event of the three part series focuses on the growing drug epidemic in Indiana and how to make sure you and your company are prepared.<br />\n<br />\nPart one presentation topics &amp\; speakers include:<br />\nEducation &amp\; Awareness- Paul Strabavy\, Office for Saint Joseph County Drug Investigation Unit<br />\nAre Your Drug Testing Policies Going Up in Smoke?- Mike Palmer\, Attorney at Barnes &amp\; Thornburg<br />\nReasonable Suspicion- LouAnn Dobbins from New Avenues<br />\n<br />\nThe cost of training and breakfast is $10.00 per attendee. You can register online at:&nbsp\;https://www.cvent.com/events/mental-health-in-the-workplace-risk-responsibility-series-indiana-a-state-of-crisis/registration-b8db74602b9c4a148190b83bda83211c.aspx<br />\nor pay by check at the door. Registration end October 23\, 2017 at 5:00 p.m. &amp\; checks must be made out to Michiana SHRM<br />\n<br />\nWednesday October 25th\, 2017 from 8:00 a.m.-11:00 a.m.<br />\nWindsor Park Conference Center\, 4020 Edison Lakes Parkway\, Mishawaka\, IN 46545
LOCATION:Windsor Park Conference Center 4020 Edison Lakes Parkway Mishawaka
UID:e.1949.2924
SEQUENCE:3
DTSTAMP:20260424T230721Z
URL:https://members.laportepartnership.com/events/details/mental-health-in-the-workplace-risk-responsibility-seminar-series-2924
END:VEVENT

END:VCALENDAR
