BEGIN:VCALENDAR
VERSION:2.0
PRODID:-//ChamberMaster//Event Calendar 2.0//EN
METHOD:PUBLISH
X-PUBLISHED-TTL:P3D
REFRESH-INTERVAL:P3D
CALSCALE:GREGORIAN
BEGIN:VEVENT
DTSTART:20180601T160000Z
DTEND:20180601T190000Z
X-MICROSOFT-CDO-ALLDAYEVENT:FALSE
SUMMARY:Meridian Title's 10th Annual Alex's Lemonade Stand
DESCRIPTION:In a continuing effort to help raise funds and awareness for the fight against childhood cancer\, Meridian Title Corporation for the 10th year\, will become lemonade vendors for the day.\n\nOn June 1st\, the business will host Alex's Lemonade Stand to fight childhood cancer.\n\nThis will be the company's 10th annual lemonade fundraising event. The lemonade stand will be open from 11 a.m. to 2 p.m. Hot dogs and chips will be served!!\n\nDonations will be accepted on the day of the event and can also be made online at www.alexslemonade.org/mypage/1448383.  No donation is too small (or too big!).\n\n \n\nThe money raised will benefit Alex's Lemonade Stand Foundation\, a registered non-profit charity to fund childhood cancer research projects. The mission of Alex's Lemonade Stand Foundation is to raise money and awareness of childhood cancer causes\, primarily research into new treatments and cures\, and to encourage and empower others to get involved and make a difference for children with cancer.\n\nPlease support Meridian's efforts and this cause by visiting the lemonade stand on Friday\, June 1st. \n\nMeridian Title Corporation is located at 1000 W. State Road 2 in La Porte\, IN\n\nFor information\, contact Dawn Zigler at (219) 362-3228 or by email at dzigler@meridiantitle.com.
X-ALT-DESC;FMTTYPE=text/html:<div style="color: rgb(0\, 0\, 0)\; font-family: &quot\;Segoe UI&quot\;\, Helvetica\, Arial\, sans-serif\; font-size: medium\; margin: 0px 0px 5pt\;"><font face="Calibri\,sans-serif" size="2"><span style="font-size: 11pt\;"><font face="Times New Roman\,serif" size="3"><span style="font-size: 12pt\;">In a continuing effort to help raise funds and awareness for the fight against childhood cancer\, Meridian Title Corporation for the 10</span></font><font face="Times New Roman\,serif" size="-1"><sup>th</sup></font><font face="Times New Roman\,serif" size="3"><span style="font-size: 12pt\;">&nbsp\;year\, will become lemonade vendors for the day.</span></font></span></font></div>\n\n<div style="color: rgb(0\, 0\, 0)\; font-family: &quot\;Segoe UI&quot\;\, Helvetica\, Arial\, sans-serif\; font-size: medium\; margin: 0px 0px 5pt\;"><font face="Calibri\,sans-serif" size="2"><span style="font-size: 11pt\;"><font face="Times New Roman\,serif" size="3"><span style="font-size: 12pt\;">On June 1st\, the business will host Alex&rsquo\;s Lemonade Stand to fight childhood cancer.</span></font></span></font></div>\n\n<div style="color: rgb(0\, 0\, 0)\; font-family: &quot\;Segoe UI&quot\;\, Helvetica\, Arial\, sans-serif\; font-size: medium\; margin: 0px 0px 5pt\;"><font face="Calibri\,sans-serif" size="2"><span style="font-size: 11pt\;"><font face="Times New Roman\,serif" size="3"><span style="font-size: 12pt\;">This will be the company&rsquo\;s 10</span></font><font face="Times New Roman\,serif" size="-1"><sup>th</sup></font><font face="Times New Roman\,serif" size="3"><span style="font-size: 12pt\;">&nbsp\;annual lemonade fundraising event. The lemonade stand will be open from 11 a.m. to 2 p.m. Hot dogs and chips will be served!!</span></font></span></font></div>\n\n<div style="color: rgb(0\, 0\, 0)\; font-family: &quot\;Segoe UI&quot\;\, Helvetica\, Arial\, sans-serif\; font-size: medium\; margin: 0px 0px 5pt\;"><font face="Calibri\,sans-serif" size="2"><span style="font-size: 11pt\;"><font face="Times New Roman\,serif" size="3"><span style="font-size: 12pt\;">Donations will be accepted on the day of the event and can also be made online at</span></font>&nbsp\;<a href="https://webmail04.domainlocalhost.com/owa/redir.aspx?C=Nuxg__1ARvEDrYgED81GkFJ7noYcbiIlBsFtpKj4Ohbv0YLLpcTVCA..&amp\;URL=http%3a%2f%2fwww.alexslemonade.org%2fmypage%2f1448383" rel="noopener noreferrer" target="_blank"><font face="latobold\,serif">www.alexslemonade.org/mypage/1448383</font></a><font color="#5B5C5C" face="latoregular\,serif">.&nbsp\; No donation is too small (or too big!).</font></span></font></div>\n\n<div style="color: rgb(0\, 0\, 0)\; font-family: &quot\;Segoe UI&quot\;\, Helvetica\, Arial\, sans-serif\; font-size: medium\; margin: 0px 0px 5pt\;"><font face="Calibri\,sans-serif" size="2"><span style="font-size: 11pt\;">&nbsp\;</span></font></div>\n\n<div style="color: rgb(0\, 0\, 0)\; font-family: &quot\;Segoe UI&quot\;\, Helvetica\, Arial\, sans-serif\; font-size: medium\; margin: 0px 0px 5pt\;"><font face="Calibri\,sans-serif" size="2"><span style="font-size: 11pt\;"><font face="Times New Roman\,serif" size="3"><span style="font-size: 12pt\;">The money raised will benefit Alex&rsquo\;s Lemonade Stand Foundation\, a registered non-profit charity to fund childhood cancer research projects. The mission of Alex&rsquo\;s Lemonade Stand Foundation is to raise money and awareness of childhood cancer causes\, primarily research into new treatments and cures\, and to encourage and empower others to get involved and make a difference for children with cancer.</span></font></span></font></div>\n\n<div style="color: rgb(0\, 0\, 0)\; font-family: &quot\;Segoe UI&quot\;\, Helvetica\, Arial\, sans-serif\; font-size: medium\; margin: 0px 0px 5pt\;"><font face="Calibri\,sans-serif" size="2"><span style="font-size: 11pt\;"><font face="Times New Roman\,serif" size="3"><span style="font-size: 12pt\;">Please support Meridian&rsquo\;s efforts and this cause by visiting the lemonade stand on Friday\, June 1st.&nbsp\;</span></font></span></font></div>\n\n<div style="color: rgb(0\, 0\, 0)\; font-family: &quot\;Segoe UI&quot\;\, Helvetica\, Arial\, sans-serif\; font-size: medium\; margin: 0px 0px 5pt\;"><font face="Calibri\,sans-serif" size="2"><span style="font-size: 11pt\;"><font face="Times New Roman\,serif" size="3"><span style="font-size: 12pt\;">Meridian Title Corporation is located at 1000 W. State Road 2 in La Porte\, IN</span></font></span></font></div>\n\n<div style="color: rgb(0\, 0\, 0)\; font-family: &quot\;Segoe UI&quot\;\, Helvetica\, Arial\, sans-serif\; font-size: medium\; margin: 0px 0px 5pt\;"><font face="Calibri\,sans-serif" size="2"><span style="font-size: 11pt\;"><font face="Times New Roman\,serif" size="3"><span style="font-size: 12pt\;">For information\, contact Dawn Zigler at (219) 362-3228 or by email at&nbsp\;</span></font><a href="https://webmail04.domainlocalhost.com/owa/redir.aspx?C=c1no1O5YkZQpKkvqcouEcATwPa0XA0UZCO-bERxKc1vv0YLLpcTVCA..&amp\;URL=mailto%3adzigler%40meridiantitle.com" rel="noopener noreferrer" target="_blank"><font face="Times New Roman\,serif" size="3"><span style="font-size: 12pt\;">dzigler@meridiantitle.com</span></font></a><font face="Times New Roman\,serif" size="3"><span style="font-size: 12pt\;">.</span></font></span></font></div>\n
LOCATION:Meridian Title Corporation 1000 W. State Road 2 La Porte
UID:e.1949.4166
SEQUENCE:3
DTSTAMP:20260424T084845Z
URL:https://members.laportepartnership.com/events/details/meridian-title-s-10th-annual-alex-s-lemonade-stand-4166
END:VEVENT

END:VCALENDAR
