BEGIN:VCALENDAR
VERSION:2.0
PRODID:-//ChamberMaster//Event Calendar 2.0//EN
METHOD:PUBLISH
X-PUBLISHED-TTL:P3D
REFRESH-INTERVAL:P3D
CALSCALE:GREGORIAN
BEGIN:VEVENT
DTSTART:20161227T171500Z
DTEND:20161227T190000Z
X-MICROSOFT-CDO-ALLDAYEVENT:FALSE
SUMMARY:Miller's Health & Rehab Membership Luncheon
DESCRIPTION:The Greater La Porte Chamber of Commerce will host a membership luncheon on Tuesday\, December 27 at T-Bones Pier 11\, 1110 Lakeside Street in La Porte.\n\n \n\nMiller's Health and Rehab is the sponsor of this event and will present information on their new facility\, located at 3530 Monroe Street in La Porte. Registration begins at 11:15 a.m. with lunch and the presentation at 11:30 a.m. Pre-registration is encouraged and may be done at www.lpchamber.com or by calling (219) 362-3178. The cost is $18 for members and $24 for non-Chamber members.\n\n \n\nSince 1964\, Indiana families have looked to Miller's Merry Manor for compassionate care for their loved ones. At the La Porte facility an array of services to patients are provided to patients\, including: short-term rehabilitation care or long-term residency\; physical\, occupational and speech therapy\; hospice care\; and respite care. Many features also help to provide a comfortable stay\, such as religious services\, daily activities\, and private accommodations.\n\n\n\nThe Unity Foundation of La Porte County will also present at this event and provide a brief update on Unity Park- located on Pine Lake near T-Bones.\n\n \n\nTo learn more about Miller's Health & Rehab in La Porte\, visit their website at http://www.millersmerrymanor.com/locations/laporte. For more information about the Unity Foundation of La Porte County\, visit www.uflc.net.
X-ALT-DESC;FMTTYPE=text/html:The <strong>Greater La Porte Chamber of Commerce</strong> will host a membership luncheon on Tuesday\, December 27 at <strong>T-Bones Pier 11</strong>\, 1110 Lakeside Street in La Porte.<br />\n&nbsp\;<br />\n<strong>Miller&rsquo\;s Health and Rehab </strong>is the sponsor of this event and will present information on their new facility\, located at 3530 Monroe Street in La Porte. Registration begins at 11:15 a.m. with lunch and the presentation at 11:30 a.m. Pre-registration is encouraged and may be done at www.lpchamber.com or by calling (219) 362-3178. <strong><span style="font-family:calibri\,sans-serif\;">The cost is $1</span></strong><strong><span style="font-weight:normal\;"><span style="font-family:calibri\,sans-serif\;">8</span></span></strong><strong><span style="font-family:calibri\,sans-serif\;"> for members and $2</span></strong><strong><span style="font-weight:normal\;"><span style="font-family:calibri\,sans-serif\;">4</span></span></strong><strong><span style="font-family:calibri\,sans-serif\;"> for non-Chamber members.</span></strong><br />\n&nbsp\;<br />\n<span style="color:black\;">Since 1964\, Indiana families have looked to Miller&rsquo\;s Merry Manor for compassionate care for their loved ones. At the La Porte facility an array of services to patients are provided to patients\, including: short-term rehabilitation care or long-term residency\; physical\, occupational and speech therapy\; hospice care\; and respite care. Many features also help to provide a comfortable stay\, such as religious services\, daily activities\, and private accommodations.<br />\n<br />\nThe Unity Foundation of La Porte County will also present at this event and provide a brief update on Unity Park- located on Pine Lake near T-Bones.</span><br />\n&nbsp\;<br />\nTo learn more about Miller&rsquo\;s Health &amp\; Rehab in La Porte\, visit their website at http://www.millersmerrymanor.com/locations/laporte. For more information about the Unity Foundation of La Porte County\, visit www.uflc.net.
LOCATION:T-Bones Pier 11 1110 Lakeside St. La Porte
UID:e.1949.2685
SEQUENCE:3
DTSTAMP:20260425T172529Z
URL:https://members.laportepartnership.com/events/details/miller-s-health-rehab-membership-luncheon-2685
END:VEVENT

END:VCALENDAR
