BEGIN:VCALENDAR
VERSION:2.0
PRODID:-//ChamberMaster//Event Calendar 2.0//EN
METHOD:PUBLISH
X-PUBLISHED-TTL:P3D
REFRESH-INTERVAL:P3D
CALSCALE:GREGORIAN
BEGIN:VEVENT
DTSTART:20170329T160000Z
DTEND:20170329T180000Z
X-MICROSOFT-CDO-ALLDAYEVENT:FALSE
SUMMARY:Miller's Health & Rehab Ribbon Cutting
DESCRIPTION:Join Miller's Health & Rehab for a ribbon cutting & open house on Wednesday\, March 29 from 11:00 a.m.-1:00 p.m. with the ribbon cutting taking place at 12:30 p.m. Come and see their new rehabilitation facility and fitness center. Hors d'oeuvres\, door prizes\, tours\, networking\, and demonstrations will all be available.\n\n\n\nMiller's Health & Rehab offers a variety of services to patients including short-term rehabilitation care or long-term residency\, hospice care\, and respite care. The facility also offers physical\, occupational\, and speech therapy. Short-term and long-term care services help to provide a comfortable stay and include religious services\, daily activities\, and private accommodations.\n\n\n\nFor more information about Miller's Health & Rehab in La Porte\, visit http://www.millersmerrymanor.com/locations/laporte or call 219.341.8020. You may register for this event by clicking the "Register Now" button above.
X-ALT-DESC;FMTTYPE=text/html:Join Miller&#39\;s Health &amp\; Rehab for a ribbon cutting &amp\; open house on Wednesday\, March 29 from 11:00 a.m.-1:00 p.m. with the ribbon cutting taking place at 12:30 p.m. Come and see their new rehabilitation facility and fitness center. Hors d&#39\;oeuvres\, door prizes\, tours\, networking\, and demonstrations will all be available.<br />\n<br />\nMiller&#39\;s Health &amp\; Rehab offers a variety of services to patients including short-term rehabilitation care or long-term residency\, hospice care\, and respite care. The facility also offers physical\, occupational\, and speech therapy. Short-term and long-term care services help to provide a comfortable stay and include religious services\, daily activities\, and private accommodations.<br />\n<br />\nFor more information about Miller&#39\;s Health &amp\; Rehab in La Porte\, visit&nbsp\;http://www.millersmerrymanor.com/locations/laporte&nbsp\;or call 219.341.8020. You may register for this event by clicking the &quot\;Register Now&quot\; button above.
LOCATION:Miller's Health & Rehab 3530 Monroe Street La Porte
UID:e.1949.2747
SEQUENCE:3
DTSTAMP:20260425T114948Z
URL:https://members.laportepartnership.com/events/details/miller-s-health-rehab-ribbon-cutting-2747
END:VEVENT

END:VCALENDAR
