BEGIN:VCALENDAR
VERSION:2.0
PRODID:-//ChamberMaster//Event Calendar 2.0//EN
METHOD:PUBLISH
X-PUBLISHED-TTL:P3D
REFRESH-INTERVAL:P3D
CALSCALE:GREGORIAN
BEGIN:VEVENT
DTSTART:20191011T130000Z
DTEND:20191011T150000Z
X-MICROSOFT-CDO-ALLDAYEVENT:FALSE
SUMMARY:Mindful Recovery From Trauma
DESCRIPTION:This a group for adults who are struggling with the effects of a traumatic experience\, (as defined by them). A diagnosis is not required. We support each other\, learn the neurological effects of trauma\, learn how to better cope with our symptoms\, facilitate healing\, and practice new coping skills. \n\n\n\n8 week Recovery Group. We spend the first part of group learning and sharing\, and the second half practicing mindfulness techniques specific to calming the nervous system.
X-ALT-DESC;FMTTYPE=text/html:<span style="color:rgb(29\, 33\, 41)\; font-family:helvetica\,arial\,sans-serif\; font-size:14px">This a group for adults who are struggling with the effects of a traumatic experience\, (as defined by them). A diagnosis is not required. We support each other\, learn the neurological effects of trauma\, learn how to better cope with our symptoms\, facilitate healing\, and practice new coping skills. </span><br />\n<br />\n<span style="color:rgb(29\, 33\, 41)\; font-family:helvetica\,arial\,sans-serif\; font-size:14px">8 week Recovery Group. We spend the first part of group learning and sharing\, and the second half practicing mindfulness techniques specific to calming the nervous system.</span>
LOCATION:Anam Cara 4298 E 1000 North La Porte\, IN 46350
UID:e.1949.4522
SEQUENCE:3
DTSTAMP:20260423T063059Z
URL:https://members.laportepartnership.com/events/details/mindful-recovery-from-trauma-4522
END:VEVENT

END:VCALENDAR
