BEGIN:VCALENDAR
VERSION:2.0
PRODID:-//ChamberMaster//Event Calendar 2.0//EN
METHOD:PUBLISH
X-PUBLISHED-TTL:P3D
REFRESH-INTERVAL:P3D
CALSCALE:GREGORIAN
BEGIN:VEVENT
DTSTART:20190518T160000Z
DTEND:20190518T190000Z
X-MICROSOFT-CDO-ALLDAYEVENT:FALSE
SUMMARY:Missions Against Violence 5K or 1M Walk/Run
DESCRIPTION:We are walking to stand against domestic violence and sexual assault! Run a 5K or walk/run a mile with our team. Men\, are you up for a challenge? Walk a mile in the shoes of the women you love and do the mile in high heels!! Everyone is invited to wear heels for either trail and superhero costumes are welcome!! Prizes for best heels\, creative costume and more. Pie throwing\, children's activities\, snacks\, and give-aways! Join us! Free T-shirt with paid registration. Show up La Porte! This year\, we are seeing who can bring in the most support: La Porte\, Michigan City\, or South County (including Rolling Prairie)...pledge forms available on our Facebook page!
X-ALT-DESC;FMTTYPE=text/html:We are walking to stand against domestic violence and sexual assault! Run a 5K or walk/run a mile with our team. Men\, are you up for a challenge? Walk a mile in the shoes of the women you love and do the mile in high heels!! Everyone is invited to wear heels for either trail and superhero costumes are welcome!! Prizes for best heels\, creative costume and more. Pie throwing\, children&rsquo\;s activities\, snacks\, and give-aways! Join us! Free T-shirt with paid registration. Show up La Porte! This year\, we are seeing who can bring in the most support: La Porte\, Michigan City\, or South County (including Rolling Prairie)...pledge forms available on our Facebook page!
LOCATION:Kesling Park\, Shelter #4
UID:e.1949.4357
SEQUENCE:3
DTSTAMP:20260423T151301Z
URL:https://members.laportepartnership.com/events/details/missions-against-violence-5k-or-1m-walk-run-4357
END:VEVENT

END:VCALENDAR
