BEGIN:VCALENDAR
VERSION:2.0
PRODID:-//ChamberMaster//Event Calendar 2.0//EN
METHOD:PUBLISH
X-PUBLISHED-TTL:P3D
REFRESH-INTERVAL:P3D
CALSCALE:GREGORIAN
BEGIN:VEVENT
DTSTART:20160917T233000Z
DTEND:20160918T020000Z
X-MICROSOFT-CDO-ALLDAYEVENT:FALSE
SUMMARY:Murder Mystery Dinner- September 17
DESCRIPTION:Three course dinner and interactive murder mystery theater. Each person will become an individual character and you can expect lots of laughter. This event also does not take place in the restaurant. The event is in the upstairs grand room above the restaurant. Come enjoy the unique atmosphere and event. RSVP required.
X-ALT-DESC;FMTTYPE=text/html:<span style="border: none\; border-image-source: none\; border-image-slice: 100% 1 0\; border-image-repeat: stretch\; font-stretch: inherit\; line-height: 20.8px\; font-family: Arial\, Helvetica\, sans-serif\; font-size: 16px\; font-weight: inherit\; margin: 0px\; outline: invert none medium\; padding: 0px\; vertical-align: baseline\; bottom: auto\; box-sizing: content-box\; clear: none\; color: rgb(0\, 0\, 0)\; content: normal\; direction: inherit\; empty-cells: show\; left: auto\; max-height: none\; max-width: none\; min-height: initial\; min-width: initial\; opacity: 1\; outline-offset: 0px\; overflow: visible\; position: static\; resize: none\; right: auto\; table-layout: auto\; text-overflow: clip\; top: auto\; visibility: inherit\; word-break: inherit\; word-wrap: inherit\; z-index: auto\; border-collapse: separate\; border-radius: 0px\; height: auto\; width: auto\; box-shadow: none\; background-image: none\; background-attachment: initial\; background-size: initial\; background-origin: initial\; background-clip: initial\; background-position: initial\; background-repeat: initial\;">Three course dinner and interactive murder mystery theater. Each person will become an individual character and you can expect lots of laughter. This event also does not take place in the restaurant. The event is in the upstairs <strong>grand room</strong> above the restaurant. Come enjoy the unique atmosphere and event. RSVP required.&nbsp\;</span>
LOCATION:Etropal Restaurant and Lounge 701 Lincolnway La Porte
UID:e.1949.2610
SEQUENCE:3
DTSTAMP:20260425T223222Z
URL:https://members.laportepartnership.com/events/details/murder-mystery-dinner-september-17-2610
END:VEVENT

END:VCALENDAR
