BEGIN:VCALENDAR
VERSION:2.0
PRODID:-//ChamberMaster//Event Calendar 2.0//EN
METHOD:PUBLISH
X-PUBLISHED-TTL:P3D
REFRESH-INTERVAL:P3D
CALSCALE:GREGORIAN
BEGIN:VEVENT
DTSTART:20191128T170000Z
DTEND:20191128T220000Z
X-MICROSOFT-CDO-ALLDAYEVENT:FALSE
SUMMARY:Native American Celebration and Thanksgiving Day Turkey Walk
DESCRIPTION:Experience Native American cooking techniques and learn how they lived. Come count the turkeys on the Friendship Trail for a special prize\, or participate in the Children's Crafts! Enjoy a stroll around the Gardens! FREE admission!
X-ALT-DESC;FMTTYPE=text/html:<p><span style="background-color:transparent\; color:rgb(0\, 0\, 0)\; font-family:times new roman\; font-size:12pt">Experience Native American cooking techniques and learn how they lived. Come count the turkeys on the Friendship Trail for a special prize\, or participate in the Children&rsquo\;s Crafts! Enjoy a stroll around the Gardens! FREE admission!</span></p>\n
LOCATION:Friendship Botanic Gardens 2055 East US Highway 12 Michigan City\, IN 46360
UID:e.1949.4330
SEQUENCE:3
DTSTAMP:20260423T044606Z
URL:https://members.laportepartnership.com/events/details/native-american-celebration-and-thanksgiving-day-turkey-walk-4330
END:VEVENT

END:VCALENDAR
