BEGIN:VCALENDAR
VERSION:2.0
PRODID:-//ChamberMaster//Event Calendar 2.0//EN
METHOD:PUBLISH
X-PUBLISHED-TTL:P3D
REFRESH-INTERVAL:P3D
CALSCALE:GREGORIAN
BEGIN:VEVENT
DTSTART:20171107T000000Z
DTEND:20171107T020000Z
X-MICROSOFT-CDO-ALLDAYEVENT:FALSE
SUMMARY:Natural Wellness- doTerra Mega Event with Earthside Essentials
DESCRIPTION:Natural Wellness- d TERRA Mega Event\n\nLearn & experience d terra essential oils on Monday\, November 6th at 6:00 p.m. in Portofino's downstairs. Over $150 in Prizes!\n\nCome experience:\n\nFun Atmosphere\, Exclusive Offers\, Snacks\, Cash Bar\, and Much More.\n\nQualifications:\n\nNew to d TERRA Essential Oils\, Interested in Natural Health & Wellness\n\n\n\nEarn Prize Tickets Ahead of Time:\n\nRSVP...1 Ticket\, invite a friend who rsvps...1 ticket\, arrive on time...1 ticket\, first timer to class...1 ticket\n\n\n\nREGISTRATION REQUIRED- more opportunities to earn tickets at event\n\nhttps://doterramegaevent.eventbrite.com
X-ALT-DESC;FMTTYPE=text/html:Natural Wellness- d&#333\;TERRA Mega Event<br />\nLearn &amp\; experience d&#333\;terra essential oils on Monday\, November 6th at 6:00 p.m. in Portofino&#39\;s downstairs. Over $150 in Prizes!<br />\nCome experience:<br />\nFun Atmosphere\, Exclusive Offers\, Snacks\, Cash Bar\, and Much More.<br />\nQualifications:<br />\nNew to d&#333\;TERRA Essential Oils\, Interested in Natural Health &amp\; Wellness<br />\n<br />\nEarn Prize Tickets Ahead of Time:<br />\nRSVP...1 Ticket\, invite a friend who rsvps...1 ticket\, arrive on time...1 ticket\, first timer to class...1 ticket<br />\n<br />\nREGISTRATION REQUIRED- more opportunities to earn tickets at event<br />\nhttps://doterramegaevent.eventbrite.com
LOCATION:Portofino Grill- downtownstairs 3233 N. State Road 39
UID:e.1949.2922
SEQUENCE:3
DTSTAMP:20260424T211804Z
URL:https://members.laportepartnership.com/events/details/natural-wellness-doterra-mega-event-with-earthside-essentials-2922
END:VEVENT

END:VCALENDAR
